{"text_format":"3","workbook":"xlsx","n_sheets":6,"sheets":["Summary","Plot","AI-10","RA-10","LDB-10","LDP-10"],"not_rendered":{"charts":4,"macros":1,"defined_names":1},"read":"whole","date_system":"1900"}

{"sheet":"Summary","index":0,"n_rows":54,"n_cols":22,"rows_kept":54}
[]
[{"$nulls":4},"All Intra Main10 ",{"$nulls":10},{"$f":"CONCATENATE(\"Encoder run times for \", M3)","v":"Encoder run times for HM-16.22 Main10"}]
[{"$nulls":4},{"$f":"CONCATENATE(\"Over \", $M$3)","v":"Over HM-16.22 Main10"},{"$nulls":6},"Reference:","HM-16.22 Main10",{"$nulls":3},"AI","RA","LDB","LDP","All [hours]","All [days]"]
[null,null,"Y","U","V","EncT","DecT",{"$nulls":4},"Tested:","test",null,null,"Sum",{"$f":"'AI-10'!#REF!","v":{"$error":"#REF!"}},{"$f":"#REF!","v":{"$error":"#REF!"}},{"$f":"'LDB-10'!L71","v":0},{"$f":"'LDP-10'!L69","v":0},{"$f":"SUM(Q4:T4)","v":{"$error":"#REF!"}},{"$f":"U4/24","v":{"$error":"#REF!"}}]
[null,"Class A1",{"$f":"'AI-10'!#REF!","v":{"$error":"#REF!"}},{"$f":"'AI-10'!#REF!","v":{"$error":"#REF!"}},{"$f":"'AI-10'!#REF!","v":{"$error":"#REF!"}},{"$f":"'AI-10'!#REF!","v":{"$error":"#REF!"}},{"$f":"'AI-10'!#REF!","v":{"$error":"#REF!"}},{"$nulls":8},"Max",{"$f":"'AI-10'!#REF!","v":{"$error":"#REF!"}},{"$f":"#REF!","v":{"$error":"#REF!"}},{"$f":"'LDB-10'!L81","v":0},{"$f":"'LDP-10'!L79","v":0},{"$f":"MAX(Q5,R5/4,S5,T5)","v":{"$error":"#REF!"}},{"$f":"U5/24","v":{"$error":"#REF!"}}]
[null,"Class A2",{"$f":"'AI-10'!#REF!","v":{"$error":"#REF!"}},{"$f":"'AI-10'!#REF!","v":{"$error":"#REF!"}},{"$f":"'AI-10'!#REF!","v":{"$error":"#REF!"}},{"$f":"'AI-10'!#REF!","v":{"$error":"#REF!"}},{"$f":"'AI-10'!#REF!","v":{"$error":"#REF!"}}]
[null,"Class B",{"$f":"'AI-10'!#REF!","v":{"$error":"#REF!"}},{"$f":"'AI-10'!#REF!","v":{"$error":"#REF!"}},{"$f":"'AI-10'!#REF!","v":{"$error":"#REF!"}},{"$f":"'AI-10'!#REF!","v":{"$error":"#REF!"}},{"$f":"'AI-10'!#REF!","v":{"$error":"#REF!"}}]
[null,"Class C",{"$f":"'AI-10'!#REF!","v":{"$error":"#REF!"}},{"$f":"'AI-10'!#REF!","v":{"$error":"#REF!"}},{"$f":"'AI-10'!#REF!","v":{"$error":"#REF!"}},{"$f":"'AI-10'!#REF!","v":{"$error":"#REF!"}},{"$f":"'AI-10'!#REF!","v":{"$error":"#REF!"}},{"$nulls":8},{"$f":"CONCATENATE(\"Encoder run times for \", M4)","v":"Encoder run times for test"}]
[null,"Class E",{"$f":"'AI-10'!#REF!","v":{"$error":"#REF!"}},{"$f":"'AI-10'!#REF!","v":{"$error":"#REF!"}},{"$f":"'AI-10'!#REF!","v":{"$error":"#REF!"}},{"$f":"'AI-10'!#REF!","v":{"$error":"#REF!"}},{"$f":"'AI-10'!#REF!","v":{"$error":"#REF!"}},{"$nulls":9},"AI","RA","LDB","LDP","All [hours]","All [days]"]
[null,"Class Gaming",{"$f":"'AI-10'!#REF!","v":{"$error":"#REF!"}},{"$f":"'AI-10'!#REF!","v":{"$error":"#REF!"}},{"$f":"'AI-10'!#REF!","v":{"$error":"#REF!"}},{"$f":"'AI-10'!#REF!","v":{"$error":"#REF!"}},{"$f":"'AI-10'!#REF!","v":{"$error":"#REF!"}},{"$nulls":8},"Sum",{"$f":"'AI-10'!#REF!","v":{"$error":"#REF!"}},{"$f":"#REF!","v":{"$error":"#REF!"}},{"$f":"'LDB-10'!V71","v":0},{"$f":"'LDP-10'!V69","v":0},{"$f":"SUM(Q10:T10)","v":{"$error":"#REF!"}},{"$f":"U10/24","v":{"$error":"#REF!"}}]
[null,"Overall ",{"$f":"'AI-10'!#REF!","v":{"$error":"#REF!"}},{"$f":"'AI-10'!#REF!","v":{"$error":"#REF!"}},{"$f":"'AI-10'!#REF!","v":{"$error":"#REF!"}},{"$f":"'AI-10'!#REF!","v":{"$error":"#REF!"}},{"$f":"'AI-10'!#REF!","v":{"$error":"#REF!"}},{"$nulls":4},"Note: BD-rate is computed using piece-wise cubic interpolation",{"$nulls":3},"Max",{"$f":"'AI-10'!#REF!","v":{"$error":"#REF!"}},{"$f":"#REF!","v":{"$error":"#REF!"}},{"$f":"'LDB-10'!V81","v":0},{"$f":"'LDP-10'!V79","v":0},{"$f":"MAX(Q11,R11/4,S11,T11)","v":{"$error":"#REF!"}},{"$f":"U11/24","v":{"$error":"#REF!"}}]
[null,"Class D",{"$f":"'AI-10'!#REF!","v":{"$error":"#REF!"}},{"$f":"'AI-10'!#REF!","v":{"$error":"#REF!"}},{"$f":"'AI-10'!#REF!","v":{"$error":"#REF!"}},{"$f":"'AI-10'!#REF!","v":{"$error":"#REF!"}},{"$f":"'AI-10'!#REF!","v":{"$error":"#REF!"}}]
[null,"Class F",{"$f":"'AI-10'!#REF!","v":{"$error":"#REF!"}},{"$f":"'AI-10'!#REF!","v":{"$error":"#REF!"}},{"$f":"'AI-10'!#REF!","v":{"$error":"#REF!"}},{"$f":"'AI-10'!#REF!","v":{"$error":"#REF!"}},{"$f":"'AI-10'!#REF!","v":{"$error":"#REF!"}}]
[{"$nulls":11},"Cluster information"]
[{"$nulls":4},"Random access Main10 ",{"$nulls":10},{"$f":"CONCATENATE(\"Encoder run times for \", M4, \" over \", M3)","v":"Encoder run times for test over HM-16.22 Main10"}]
[{"$nulls":4},{"$f":"CONCATENATE(\"Over \", $M$3)","v":"Over HM-16.22 Main10"},{"$nulls":6},"CPU type:","(e.g. Xeon …)",{"$nulls":3},"AI","RA","LDB","LDP","All"]
[null,null,"Y","U","V","EncT","DecT",{"$nulls":8},"Average",{"$f":"F11","v":{"$error":"#REF!"}},{"$f":"F24","v":{"$error":"#REF!"}},{"$f":"F39","v":{"v":0,"d":"0%"}},{"$f":"F52","v":{"$error":"#DIV/0!"}}]
[null,{"$f":"B5","v":"Class A1"},{"$f":"'RA-10'!#REF!","v":{"$error":"#REF!"}},{"$f":"'RA-10'!#REF!","v":{"$error":"#REF!"}},{"$f":"'RA-10'!#REF!","v":{"$error":"#REF!"}},{"$f":"'RA-10'!#REF!","v":{"$error":"#REF!"}},{"$f":"'RA-10'!#REF!","v":{"$error":"#REF!"}},{"$nulls":4},"Hyperthreading:","(on/off)",null,null,"Sum",{"$f":"Q10/Q4","v":{"$error":"#REF!"}},{"$error":"#REF!"},{"$error":"#DIV/0!"},{"$error":"#DIV/0!"},{"$error":"#REF!"}]
[null,{"$f":"B6","v":"Class A2"},{"$f":"'RA-10'!#REF!","v":{"$error":"#REF!"}},{"$f":"'RA-10'!#REF!","v":{"$error":"#REF!"}},{"$f":"'RA-10'!#REF!","v":{"$error":"#REF!"}},{"$f":"'RA-10'!#REF!","v":{"$error":"#REF!"}},{"$f":"'RA-10'!#REF!","v":{"$error":"#REF!"}},{"$nulls":4},"Turbo mode:","(on/off)",null,null,"Max",{"$error":"#REF!"},{"$error":"#REF!"},{"$error":"#DIV/0!"},{"$error":"#DIV/0!"},{"$error":"#REF!"}]
[null,{"$f":"B7","v":"Class B"},{"$f":"'RA-10'!#REF!","v":{"$error":"#REF!"}},{"$f":"'RA-10'!#REF!","v":{"$error":"#REF!"}},{"$f":"'RA-10'!#REF!","v":{"$error":"#REF!"}},{"$f":"'RA-10'!#REF!","v":{"$error":"#REF!"}},{"$f":"'RA-10'!#REF!","v":{"$error":"#REF!"}}]
[null,{"$f":"B8","v":"Class C"},{"$f":"'RA-10'!#REF!","v":{"$error":"#REF!"}},{"$f":"'RA-10'!#REF!","v":{"$error":"#REF!"}},{"$f":"'RA-10'!#REF!","v":{"$error":"#REF!"}},{"$f":"'RA-10'!#REF!","v":{"$error":"#REF!"}},{"$f":"'RA-10'!#REF!","v":{"$error":"#REF!"}},{"$nulls":4},"Compiler:","(e.g. gcc 7.3.1)"]
[null,{"$f":"B9","v":"Class E"},{"$f":"'RA-10'!#REF!","v":{"$error":"#REF!"}},{"$f":"'RA-10'!#REF!","v":{"$error":"#REF!"}},{"$f":"'RA-10'!#REF!","v":{"$error":"#REF!"}},{"$f":"'RA-10'!#REF!","v":{"$error":"#REF!"}},{"$f":"'RA-10'!#REF!","v":{"$error":"#REF!"}}]
[null,"Class Gaming",{"$f":"'RA-10'!#REF!","v":{"$error":"#REF!"}},{"$f":"'RA-10'!#REF!","v":{"$error":"#REF!"}},{"$f":"'RA-10'!#REF!","v":{"$error":"#REF!"}},{"$f":"'RA-10'!#REF!","v":{"$error":"#REF!"}},{"$f":"'RA-10'!#REF!","v":{"$error":"#REF!"}},{"$nulls":4},"OS:","(e.g. Scientific Linux)"]
[null,"Overall",{"$f":"'RA-10'!#REF!","v":{"$error":"#REF!"}},{"$f":"'RA-10'!#REF!","v":{"$error":"#REF!"}},{"$f":"'RA-10'!#REF!","v":{"$error":"#REF!"}},{"$f":"'RA-10'!#REF!","v":{"$error":"#REF!"}},{"$f":"'RA-10'!#REF!","v":{"$error":"#REF!"}},{"$nulls":4},"OS:","(e.g. Scientific Linux)"]
[null,{"$f":"B12","v":"Class D"},{"$f":"'RA-10'!#REF!","v":{"$error":"#REF!"}},{"$f":"'RA-10'!#REF!","v":{"$error":"#REF!"}},{"$f":"'RA-10'!#REF!","v":{"$error":"#REF!"}},{"$f":"'RA-10'!#REF!","v":{"$error":"#REF!"}},{"$f":"'RA-10'!#REF!","v":{"$error":"#REF!"}}]
[null,{"$f":"B13","v":"Class F"},{"$f":"'RA-10'!#REF!","v":{"$error":"#REF!"}},{"$f":"'RA-10'!#REF!","v":{"$error":"#REF!"}},{"$f":"'RA-10'!#REF!","v":{"$error":"#REF!"}},{"$f":"'RA-10'!#REF!","v":{"$error":"#REF!"}},{"$f":"'RA-10'!#REF!","v":{"$error":"#REF!"}},{"$nulls":4},"Decoding options"]
[]
[{"$nulls":4},"Low delay B Main10 ",{"$nulls":6},"Bitstream concatenation:","(yes/no)"]
[{"$nulls":4},{"$f":"CONCATENATE(\"Over \", $M$3)","v":"Over HM-16.22 Main10"}]
[null,null,"Y","U","V","EncT","DecT","BDR-YUV","VMAF","MS-SSIM",null,"MD5 SEI:","(yes/no)"]
[null,{"$f":"B5","v":"Class A1"},{"$f":"'LDB-10'!#REF!","v":{"$error":"#REF!"}},{"$f":"'LDB-10'!#REF!","v":{"$error":"#REF!"}},{"$f":"'LDB-10'!#REF!","v":{"$error":"#REF!"}},{"$f":"'LDB-10'!#REF!","v":{"$error":"#REF!"}},{"$f":"'LDB-10'!#REF!","v":{"$error":"#REF!"}},{"$nulls":4},"YUV output:","(yes/no)"]
[null,{"$f":"B6","v":"Class A2"},{"$f":"'LDB-10'!#REF!","v":{"$error":"#REF!"}},{"$f":"'LDB-10'!#REF!","v":{"$error":"#REF!"}},{"$f":"'LDB-10'!#REF!","v":{"$error":"#REF!"}},{"$f":"'LDB-10'!#REF!","v":{"$error":"#REF!"}},{"$f":"'LDB-10'!#REF!","v":{"$error":"#REF!"}}]
[null,{"$f":"B7","v":"Class B"},{"$f":"'LDB-10'!#REF!","v":{"$error":"#REF!"}},{"$f":"'LDB-10'!#REF!","v":{"$error":"#REF!"}},{"$f":"'LDB-10'!#REF!","v":{"$error":"#REF!"}},{"$f":"'LDB-10'!#REF!","v":{"$error":"#REF!"}},{"$f":"'LDB-10'!#REF!","v":{"$error":"#REF!"}},{"$nulls":4},"SIMD options:","(e.g. SSE2)"]
[null,{"$f":"B21","v":"Class C"},{"$f":"'LDB-10'!#REF!","v":{"$error":"#REF!"}},{"$f":"'LDB-10'!#REF!","v":{"$error":"#REF!"}},{"$f":"'LDB-10'!#REF!","v":{"$error":"#REF!"}},{"$f":"'LDB-10'!#REF!","v":{"$error":"#REF!"}},{"$f":"'LDB-10'!#REF!","v":{"$error":"#REF!"}}]
[null,{"$f":"B22","v":"Class E"},{"$f":"'LDB-10'!#REF!","v":{"$error":"#REF!"}},{"$f":"'LDB-10'!#REF!","v":{"$error":"#REF!"}},{"$f":"'LDB-10'!#REF!","v":{"$error":"#REF!"}},{"$f":"'LDB-10'!#REF!","v":{"$error":"#REF!"}},{"$f":"'LDB-10'!#REF!","v":{"$error":"#REF!"}}]
[null,"Class Gaming HD",{"$f":"'LDB-10'!Z55","v":{"$error":"#VALUE!"}},{"$f":"'LDB-10'!AA55","v":{"$error":"#VALUE!"}},{"$f":"'LDB-10'!AB55","v":{"$error":"#VALUE!"}},{"$f":"'LDB-10'!W55","v":{"$error":"#NUM!"}},{"$f":"'LDB-10'!X55","v":{"$error":"#NUM!"}},{"$f":"'LDB-10'!AH55","v":{"$error":"#VALUE!"}},{"$f":"'LDB-10'!AI55","v":{"$error":"#VALUE!"}},{"$f":"'LDB-10'!AJ55","v":{"$error":"#VALUE!"}}]
[null,"Class Gaming UHD",{"$f":"'LDB-10'!Z56","v":{"$error":"#VALUE!"}},{"$f":"'LDB-10'!AA56","v":{"$error":"#VALUE!"}},{"$f":"'LDB-10'!AB56","v":{"$error":"#VALUE!"}},{"$f":"'LDB-10'!W56","v":{"$error":"#NUM!"}},{"$f":"'LDB-10'!X56","v":{"$error":"#NUM!"}},{"$f":"'LDB-10'!AH56","v":{"$error":"#VALUE!"}},{"$f":"'LDB-10'!AI56","v":{"$error":"#VALUE!"}},{"$f":"'LDB-10'!AJ56","v":{"$error":"#VALUE!"}}]
[null,"Class Gaming",{"$f":"'LDB-10'!Z57","v":{"$error":"#VALUE!"}},{"$f":"'LDB-10'!AA57","v":{"$error":"#VALUE!"}},{"$f":"'LDB-10'!AB57","v":{"$error":"#VALUE!"}},{"$f":"'LDB-10'!W57","v":{"$error":"#NUM!"}},{"$f":"'LDB-10'!X57","v":{"$error":"#NUM!"}},{"$f":"'LDB-10'!AH57","v":{"$error":"#VALUE!"}},{"$f":"'LDB-10'!AI57","v":{"$error":"#VALUE!"}},{"$f":"'LDB-10'!AJ57","v":{"$error":"#VALUE!"}}]
[null,"Overall",{"$f":"'LDB-10'!Z58","v":{"v":0,"d":"0.00%"}},{"$f":"'LDB-10'!AA58","v":{"v":0,"d":"0.00%"}},{"$f":"'LDB-10'!AB58","v":{"v":0,"d":"0.00%"}},{"$f":"'LDB-10'!W58","v":{"v":0,"d":"0%"}},{"$f":"'LDB-10'!X58","v":{"v":0,"d":"0%"}}]
[null,{"$f":"B12","v":"Class D"},{"$f":"'LDB-10'!#REF!","v":{"$error":"#REF!"}},{"$f":"'LDB-10'!#REF!","v":{"$error":"#REF!"}},{"$f":"'LDB-10'!#REF!","v":{"$error":"#REF!"}},{"$f":"'LDB-10'!#REF!","v":{"$error":"#REF!"}},{"$f":"'LDB-10'!#REF!","v":{"$error":"#REF!"}}]
[null,{"$f":"B13","v":"Class F"},{"$f":"'LDB-10'!#REF!","v":{"$error":"#REF!"}},{"$f":"'LDB-10'!#REF!","v":{"$error":"#REF!"}},{"$f":"'LDB-10'!#REF!","v":{"$error":"#REF!"}},{"$f":"'LDB-10'!#REF!","v":{"$error":"#REF!"}},{"$f":"'LDB-10'!#REF!","v":{"$error":"#REF!"}}]
[]
[{"$nulls":4},"Low delay P Main10 "]
[{"$nulls":4},{"$f":"CONCATENATE(\"Over \", $M$3)","v":"Over HM-16.22 Main10"}]
[null,null,"Y","U","V","EncT","DecT"]
[null,{"$f":"B5","v":"Class A1"}]
[null,{"$f":"B6","v":"Class A2"}]
[null,{"$f":"B7","v":"Class B"},{"$f":"'LDP-10'!#REF!","v":{"$error":"#REF!"}},{"$f":"'LDP-10'!#REF!","v":{"$error":"#REF!"}},{"$f":"'LDP-10'!#REF!","v":{"$error":"#REF!"}},{"$f":"'LDP-10'!#REF!","v":{"$error":"#REF!"}},{"$f":"'LDP-10'!#REF!","v":{"$error":"#REF!"}}]
[null,{"$f":"B8","v":"Class C"},{"$f":"'LDP-10'!#REF!","v":{"$error":"#REF!"}},{"$f":"'LDP-10'!#REF!","v":{"$error":"#REF!"}},{"$f":"'LDP-10'!#REF!","v":{"$error":"#REF!"}},{"$f":"'LDP-10'!#REF!","v":{"$error":"#REF!"}},{"$f":"'LDP-10'!#REF!","v":{"$error":"#REF!"}}]
[null,{"$f":"B9","v":"Class E"},{"$f":"'LDP-10'!#REF!","v":{"$error":"#REF!"}},{"$f":"'LDP-10'!#REF!","v":{"$error":"#REF!"}},{"$f":"'LDP-10'!#REF!","v":{"$error":"#REF!"}},{"$f":"'LDP-10'!#REF!","v":{"$error":"#REF!"}},{"$f":"'LDP-10'!#REF!","v":{"$error":"#REF!"}}]
[null,"Class Gaming",{"$f":"'LDP-10'!Z55","v":{"$error":"#VALUE!"}},{"$f":"'LDP-10'!AA55","v":{"$error":"#VALUE!"}},{"$f":"'LDP-10'!AB55","v":{"$error":"#VALUE!"}},{"$f":"'LDP-10'!W55","v":{"$error":"#DIV/0!"}},{"$f":"'LDP-10'!X55","v":{"$error":"#DIV/0!"}}]
[null,"Overall",{"$f":"'LDP-10'!Z56","v":{"$error":"#VALUE!"}},{"$f":"'LDP-10'!AA56","v":{"$error":"#VALUE!"}},{"$f":"'LDP-10'!AB56","v":{"$error":"#VALUE!"}},{"$f":"'LDP-10'!W56","v":{"$error":"#DIV/0!"}},{"$f":"'LDP-10'!X56","v":{"$error":"#DIV/0!"}}]
[null,{"$f":"B12","v":"Class D"},{"$f":"'LDP-10'!#REF!","v":{"$error":"#REF!"}},{"$f":"'LDP-10'!#REF!","v":{"$error":"#REF!"}},{"$f":"'LDP-10'!#REF!","v":{"$error":"#REF!"}},{"$f":"'LDP-10'!#REF!","v":{"$error":"#REF!"}},{"$f":"'LDP-10'!#REF!","v":{"$error":"#REF!"}}]
[null,{"$f":"B13","v":"Class F"},{"$f":"'LDP-10'!#REF!","v":{"$error":"#REF!"}},{"$f":"'LDP-10'!#REF!","v":{"$error":"#REF!"}},{"$f":"'LDP-10'!#REF!","v":{"$error":"#REF!"}},{"$f":"'LDP-10'!#REF!","v":{"$error":"#REF!"}},{"$f":"'LDP-10'!#REF!","v":{"$error":"#REF!"}}]

{"sheet":"Plot","index":1,"n_rows":16,"n_cols":38,"rows_kept":16}
["Select the coding condition and sequence from the dropbox below",{"$nulls":28},"Line 1 - Reference",{"$nulls":4},"Line 2 - Test"]
["LDB-10","AOV5_1920x1080_60Hz_8bit_420",{"$nulls":27},"kbps","Y psnr","U psnr","V psnr",null,"kbps","Y psnr","U psnr","V psnr"]
[{"$nulls":25},"AI-10","AOV5_1920x1080_60Hz_8bit_420",3,{"$f":"VLOOKUP(B2,AA3:AB43,2,FALSE)","v":3},{"$f":"INDIRECT(\"'\"&$A$2&\"'!\"&ADDRESS($AC3,4))","v":14094.4096},{"$f":"INDIRECT(\"'\"&$A$2&\"'!\"&ADDRESS($AC3,5))","v":42.0387},{"$f":"INDIRECT(\"'\"&$A$2&\"'!\"&ADDRESS($AC3,6))","v":43.7247},{"$f":"INDIRECT(\"'\"&$A$2&\"'!\"&ADDRESS($AC3,7))","v":44.4115},null,{"$f":"INDIRECT(\"'\"&$A$2&\"'!\"&ADDRESS($AC3,14))","v":0},{"$f":"INDIRECT(\"'\"&$A$2&\"'!\"&ADDRESS($AC3,15))","v":0},{"$f":"INDIRECT(\"'\"&$A$2&\"'!\"&ADDRESS($AC3,16))","v":0},{"$f":"INDIRECT(\"'\"&$A$2&\"'!\"&ADDRESS($AC3,17))","v":0}]
[{"$nulls":25},"RA-10","baolei_1920x1080_60Hz_8bit_420_01",{"$f":"AB3+4","v":7},{"$f":"AC3+1","v":4},{"$f":"INDIRECT(\"'\"&$A$2&\"'!\"&ADDRESS($AC4,4))","v":5554.6},{"$f":"INDIRECT(\"'\"&$A$2&\"'!\"&ADDRESS($AC4,5))","v":38.4021},{"$f":"INDIRECT(\"'\"&$A$2&\"'!\"&ADDRESS($AC4,6))","v":40.7693},{"$f":"INDIRECT(\"'\"&$A$2&\"'!\"&ADDRESS($AC4,7))","v":41.2281},null,{"$f":"INDIRECT(\"'\"&$A$2&\"'!\"&ADDRESS($AC4,14))","v":0},{"$f":"INDIRECT(\"'\"&$A$2&\"'!\"&ADDRESS($AC4,15))","v":0},{"$f":"INDIRECT(\"'\"&$A$2&\"'!\"&ADDRESS($AC4,16))","v":0},{"$f":"INDIRECT(\"'\"&$A$2&\"'!\"&ADDRESS($AC4,17))","v":0}]
[{"$nulls":25},"LDB-10","baolei_4096x2160_60Hz_8bit_420_01",{"$f":"AB4+4","v":11},{"$f":"AC4+1","v":5},{"$f":"INDIRECT(\"'\"&$A$2&\"'!\"&ADDRESS($AC5,4))","v":2521.4528},{"$f":"INDIRECT(\"'\"&$A$2&\"'!\"&ADDRESS($AC5,5))","v":35.341},{"$f":"INDIRECT(\"'\"&$A$2&\"'!\"&ADDRESS($AC5,6))","v":38.7072},{"$f":"INDIRECT(\"'\"&$A$2&\"'!\"&ADDRESS($AC5,7))","v":39.0085},null,0,0,0,0]
[{"$nulls":25},"LDP-10","baolei_1920x1080_60Hz_8bit_420_02",15,{"$f":"AC5+1","v":6},{"$f":"INDIRECT(\"'\"&$A$2&\"'!\"&ADDRESS($AC6,4))","v":1254.4936},{"$f":"INDIRECT(\"'\"&$A$2&\"'!\"&ADDRESS($AC6,5))","v":32.5997},{"$f":"INDIRECT(\"'\"&$A$2&\"'!\"&ADDRESS($AC6,6))","v":36.9808},{"$f":"INDIRECT(\"'\"&$A$2&\"'!\"&ADDRESS($AC6,7))","v":37.1178},null,0,0,0,0]
[{"$nulls":26},"baolei_4096x2160_60Hz_8bit_420_02",19]
[{"$nulls":26},"jianling_1920x1080_60Hz_8bit_420_02",23,null,{"$f":"\"Sequence: \"&B2 & \"     Coding Conditions: \" & A2","v":"Sequence: AOV5_1920x1080_60Hz_8bit_420     Coding Conditions: LDB-10"}]
[{"$nulls":26},"jianling_1920x1080_60Hz_8bit_420_04",27]
[{"$nulls":26},"HeroesOfTheStorm_1920x1080_30Hz_8bit_P420_Part1",31]
[{"$nulls":26},"ProjectCars_1920x1080_30Hz_8bit_P420_Part1",35,null,"rate","y","u","v"]
[{"$nulls":26},"WoW_1920x1080_30Hz_8bit_P420_Part2",39,null,{"$f":"MAX(AD3:AD6,AI3:AI6)","v":{"v":14094.4096,"d":"14094.41"}},{"$f":"MAX(AE3:AE6,AJ3:AJ6)","v":{"v":42.0387,"d":"42.04"}},{"$f":"MAX(AF3:AF6,AK3:AK6)","v":{"v":43.7247,"d":"43.72"}},{"$f":"MAX(AG3:AG6,AL3:AL6)","v":{"v":44.4115,"d":"44.41"}}]
[{"$nulls":26},"MINECRAFT_1920x1080_60Hz_8bit_P420",43,null,{"$f":"MIN(AD3:AD6,AI3:AI6)","v":{"v":0,"d":"0.00"}},{"$f":"MIN(AE3:AE6,AJ3:AJ6)","v":{"v":0,"d":"0.00"}},{"$f":"MIN(AF3:AF6,AK3:AK6)","v":{"v":0,"d":"0.00"}},{"$f":"MIN(AG3:AG6,AL3:AL6)","v":{"v":0,"d":"0.00"}}]
[{"$nulls":26},"CSGO_1920x1080_60Hz_8bit_P420",47]
[{"$nulls":26},"STARCRAFT_1920x1080_60Hz_8bit_P420",51,null,{"$f":"POWER(10,CEILING(LOG(AD12+1),1))","v":100000},{"$f":"CEILING(AE12+0.25,0.5)","v":42.5},{"$f":"CEILING(AF12+0.25,0.5)","v":{"v":44,"d":"44.0"}},{"$f":"CEILING(AG12+0.25,0.5)","v":{"v":45,"d":"45.0"}}]
[{"$nulls":29},{"$f":"POWER(10,FLOOR(LOG(AD13+10),1))","v":10},{"$f":"FLOOR(AE13-0.25,0.5)","v":-0.5},{"$f":"FLOOR(AF13-0.25,0.5)","v":-0.5},{"$f":"FLOOR(AG13-0.25,0.5)","v":-0.5}]

{"sheet":"AI-10","index":2,"n_rows":58,"n_cols":36,"rows_kept":58,"merged":[[0,3,0,11],[0,13,0,21],[0,25,0,27],[0,28,0,30],[0,33,0,35]]}
[{"$nulls":3},{"$f":"Summary!M3","v":"HM-16.22 Main10"},{"$nulls":9},{"$f":"Summary!M4","v":"test"},{"$nulls":11},"BD-rate (piecewise cubic)",null,null,"BD-rate (cubic)",null,null,"Reference","Tested","BD-rate"]
[null,null,"QPISlice","kbps","Y psnr","U psnr","V psnr","Enc T [s]","Dec T [s]","VMAF","MS SSIM","Enc T [h]",null,"kbps","Y psnr","U psnr","V psnr","Enc T [s]","Dec T [s]","VMAF","MS SSIM","Enc T [h]","Enc","Dec",null,"Y","U","V","Y","U","V","Average PSNR","Average PSNR","YUV PSNR","VMAF","MS-SSIM"]
["Class Gaming","AOV5_1920x1080_60Hz_8bit_420",22,{"$nulls":8},{"$f":"H3/3600","v":{"v":0,"d":"0.00"}},{"$nulls":9},{"$f":"R3/3600","v":{"v":0,"d":"0.00"}},{"$f":"R3/H3","v":{"$error":"#DIV/0!"}},{"$error":"#DIV/0!"},null,{"$f":"bdrate($D3:$D6,E3:E6,$N3:$N6,O3:O6)","v":{"$error":"#VALUE!"}},{"$f":"bdrate($D3:$D6,F3:F6,$N3:$N6,P3:P6)","v":{"$error":"#VALUE!"}},{"$f":"bdrate($D3:$D6,G3:G6,$N3:$N6,Q3:Q6)","v":{"$error":"#VALUE!"}},{"$f":"bdrateOld($D3:$D6,E3:E6,$N3:$N6,O3:O6)","v":{"$error":"#VALUE!"}},{"$f":"bdrateOld($D3:$D6,F3:F6,$N3:$N6,P3:P6)","v":{"$error":"#VALUE!"}},{"$f":"bdrateOld($D3:$D6,G3:G6,$N3:$N6,Q3:Q6)","v":{"$error":"#VALUE!"}},{"$f":"(6*E3+F3+G3)/8","v":{"v":0,"d":"0.00"}},{"$f":"(6*O3+P3+Q3)/8","v":{"v":0,"d":"0.00"}},{"$f":"bdrate($D3:$D6,AF3:AF6,$N3:$N6,AG3:AG6)","v":{"$error":"#VALUE!"}},{"$f":"bdrate($D3:$D6,J3:J6,$N3:$N6,T3:T6)","v":{"$error":"#VALUE!"}},{"$error":"#VALUE!"}]
["HD Tencent",null,27,{"$nulls":8},{"v":0,"d":"0.00"},{"$nulls":9},{"v":0,"d":"0.00"},{"$error":"#DIV/0!"},{"$error":"#DIV/0!"},{"$nulls":7},{"v":0,"d":"0.00"},{"v":0,"d":"0.00"}]
[null,null,32,{"$nulls":8},{"v":0,"d":"0.00"},{"$nulls":9},{"v":0,"d":"0.00"},{"$error":"#DIV/0!"},{"$error":"#DIV/0!"},{"$nulls":7},{"v":0,"d":"0.00"},{"v":0,"d":"0.00"}]
[null,null,37,{"$nulls":8},{"v":0,"d":"0.00"},{"$nulls":9},{"v":0,"d":"0.00"},{"$error":"#DIV/0!"},{"$error":"#DIV/0!"},{"$nulls":7},{"v":0,"d":"0.00"},{"v":0,"d":"0.00"}]
[null,"baolei_1920x1080_60Hz_8bit_420_01",22,{"$nulls":8},{"v":0,"d":"0.00"},{"$nulls":9},{"v":0,"d":"0.00"},{"$error":"#DIV/0!"},{"$error":"#DIV/0!"},null,{"$f":"bdrate($D7:$D10,E7:E10,$N7:$N10,O7:O10)","v":{"$error":"#VALUE!"}},{"$f":"bdrate($D7:$D10,F7:F10,$N7:$N10,P7:P10)","v":{"$error":"#VALUE!"}},{"$f":"bdrate($D7:$D10,G7:G10,$N7:$N10,Q7:Q10)","v":{"$error":"#VALUE!"}},{"$f":"bdrateOld($D7:$D10,E7:E10,$N7:$N10,O7:O10)","v":{"$error":"#VALUE!"}},{"$f":"bdrateOld($D7:$D10,F7:F10,$N7:$N10,P7:P10)","v":{"$error":"#VALUE!"}},{"$f":"bdrateOld($D7:$D10,G7:G10,$N7:$N10,Q7:Q10)","v":{"$error":"#VALUE!"}},{"v":0,"d":"0.00"},{"v":0,"d":"0.00"},{"$f":"bdrate($D7:$D10,AF7:AF10,$N7:$N10,AG7:AG10)","v":{"$error":"#VALUE!"}},{"$f":"bdrate($D7:$D10,J7:J10,$N7:$N10,T7:T10)","v":{"$error":"#VALUE!"}},{"$error":"#VALUE!"}]
[null,null,27,{"$nulls":8},{"v":0,"d":"0.00"},{"$nulls":9},{"v":0,"d":"0.00"},{"$error":"#DIV/0!"},{"$error":"#DIV/0!"},{"$nulls":7},{"v":0,"d":"0.00"},{"v":0,"d":"0.00"}]
[null,null,32,{"$nulls":8},{"v":0,"d":"0.00"},{"$nulls":9},{"v":0,"d":"0.00"},{"$error":"#DIV/0!"},{"$error":"#DIV/0!"},{"$nulls":7},{"v":0,"d":"0.00"},{"v":0,"d":"0.00"}]
[null,null,37,{"$nulls":8},{"v":0,"d":"0.00"},{"$nulls":9},{"v":0,"d":"0.00"},{"$error":"#DIV/0!"},{"$error":"#DIV/0!"},{"$nulls":7},{"v":0,"d":"0.00"},{"v":0,"d":"0.00"}]
[null,"baolei_4096x2160_60Hz_8bit_420_01",22,{"$nulls":8},{"$f":"H11/3600","v":{"v":0,"d":"0.00"}},{"$nulls":9},{"$f":"R11/3600","v":{"v":0,"d":"0.00"}},{"$error":"#DIV/0!"},{"$error":"#DIV/0!"},null,{"$f":"bdrate($D11:$D14,E11:E14,$N11:$N14,O11:O14)","v":{"$error":"#VALUE!"}},{"$f":"bdrate($D11:$D14,F11:F14,$N11:$N14,P11:P14)","v":{"$error":"#VALUE!"}},{"$f":"bdrate($D11:$D14,G11:G14,$N11:$N14,Q11:Q14)","v":{"$error":"#VALUE!"}},{"$f":"bdrateOld($D11:$D14,E11:E14,$N11:$N14,O11:O14)","v":{"$error":"#VALUE!"}},{"$f":"bdrateOld($D11:$D14,F11:F14,$N11:$N14,P11:P14)","v":{"$error":"#VALUE!"}},{"$f":"bdrateOld($D11:$D14,G11:G14,$N11:$N14,Q11:Q14)","v":{"$error":"#VALUE!"}},{"v":0,"d":"0.00"},{"v":0,"d":"0.00"},{"$f":"bdrate($D11:$D14,AF11:AF14,$N11:$N14,AG11:AG14)","v":{"$error":"#VALUE!"}},{"$f":"bdrate($D11:$D14,J11:J14,$N11:$N14,T11:T14)","v":{"$error":"#VALUE!"}},{"$error":"#VALUE!"}]
[null,null,27,{"$nulls":8},{"$f":"H12/3600","v":{"v":0,"d":"0.00"}},{"$nulls":9},{"$f":"R12/3600","v":{"v":0,"d":"0.00"}},{"$error":"#DIV/0!"},{"$error":"#DIV/0!"},{"$nulls":7},{"v":0,"d":"0.00"},{"v":0,"d":"0.00"}]
[null,null,32,{"$nulls":8},{"$f":"H13/3600","v":{"v":0,"d":"0.00"}},{"$nulls":9},{"$f":"R13/3600","v":{"v":0,"d":"0.00"}},{"$error":"#DIV/0!"},{"$error":"#DIV/0!"},{"$nulls":7},{"v":0,"d":"0.00"},{"v":0,"d":"0.00"}]
[null,null,37,{"$nulls":8},{"$f":"H14/3600","v":{"v":0,"d":"0.00"}},{"$nulls":9},{"$f":"R14/3600","v":{"v":0,"d":"0.00"}},{"$error":"#DIV/0!"},{"$error":"#DIV/0!"},{"$nulls":7},{"v":0,"d":"0.00"},{"v":0,"d":"0.00"}]
[null,"baolei_1920x1080_60Hz_8bit_420_02",22,{"$nulls":8},{"v":0,"d":"0.00"},{"$nulls":9},{"v":0,"d":"0.00"},{"$error":"#DIV/0!"},{"$error":"#DIV/0!"},null,{"$f":"bdrate($D15:$D18,E15:E18,$N15:$N18,O15:O18)","v":{"$error":"#VALUE!"}},{"$f":"bdrate($D15:$D18,F15:F18,$N15:$N18,P15:P18)","v":{"$error":"#VALUE!"}},{"$f":"bdrate($D15:$D18,G15:G18,$N15:$N18,Q15:Q18)","v":{"$error":"#VALUE!"}},{"$f":"bdrateOld($D15:$D18,E15:E18,$N15:$N18,O15:O18)","v":{"$error":"#VALUE!"}},{"$f":"bdrateOld($D15:$D18,F15:F18,$N15:$N18,P15:P18)","v":{"$error":"#VALUE!"}},{"$f":"bdrateOld($D15:$D18,G15:G18,$N15:$N18,Q15:Q18)","v":{"$error":"#VALUE!"}},{"v":0,"d":"0.00"},{"v":0,"d":"0.00"},{"$f":"bdrate($D15:$D18,AF15:AF18,$N15:$N18,AG15:AG18)","v":{"$error":"#VALUE!"}},{"$f":"bdrate($D15:$D18,J15:J18,$N15:$N18,T15:T18)","v":{"$error":"#VALUE!"}},{"$error":"#VALUE!"}]
[null,null,27,{"$nulls":8},{"v":0,"d":"0.00"},{"$nulls":9},{"v":0,"d":"0.00"},{"$error":"#DIV/0!"},{"$error":"#DIV/0!"},{"$nulls":7},{"v":0,"d":"0.00"},{"v":0,"d":"0.00"}]
[null,null,32,{"$nulls":8},{"v":0,"d":"0.00"},{"$nulls":9},{"v":0,"d":"0.00"},{"$error":"#DIV/0!"},{"$error":"#DIV/0!"},{"$nulls":7},{"v":0,"d":"0.00"},{"v":0,"d":"0.00"}]
[null,null,37,{"$nulls":8},{"v":0,"d":"0.00"},{"$nulls":9},{"v":0,"d":"0.00"},{"$error":"#DIV/0!"},{"$error":"#DIV/0!"},{"$nulls":7},{"v":0,"d":"0.00"},{"v":0,"d":"0.00"}]
[null,"baolei_4096x2160_60Hz_8bit_420_02",22,{"$nulls":8},{"$f":"H19/3600","v":{"v":0,"d":"0.00"}},{"$nulls":9},{"$f":"R19/3600","v":{"v":0,"d":"0.00"}},{"$error":"#DIV/0!"},{"$error":"#DIV/0!"},null,{"$f":"bdrate($D19:$D22,E19:E22,$N19:$N22,O19:O22)","v":{"$error":"#VALUE!"}},{"$f":"bdrate($D19:$D22,F19:F22,$N19:$N22,P19:P22)","v":{"$error":"#VALUE!"}},{"$f":"bdrate($D19:$D22,G19:G22,$N19:$N22,Q19:Q22)","v":{"$error":"#VALUE!"}},{"$f":"bdrateOld($D19:$D22,E19:E22,$N19:$N22,O19:O22)","v":{"$error":"#VALUE!"}},{"$f":"bdrateOld($D19:$D22,F19:F22,$N19:$N22,P19:P22)","v":{"$error":"#VALUE!"}},{"$f":"bdrateOld($D19:$D22,G19:G22,$N19:$N22,Q19:Q22)","v":{"$error":"#VALUE!"}},{"v":0,"d":"0.00"},{"v":0,"d":"0.00"},{"$f":"bdrate($D19:$D22,AF19:AF22,$N19:$N22,AG19:AG22)","v":{"$error":"#VALUE!"}},{"$f":"bdrate($D19:$D22,J19:J22,$N19:$N22,T19:T22)","v":{"$error":"#VALUE!"}},{"$error":"#VALUE!"}]
[null,null,27,{"$nulls":8},{"$f":"H20/3600","v":{"v":0,"d":"0.00"}},{"$nulls":9},{"$f":"R20/3600","v":{"v":0,"d":"0.00"}},{"$error":"#DIV/0!"},{"$error":"#DIV/0!"},{"$nulls":7},{"v":0,"d":"0.00"},{"v":0,"d":"0.00"}]
[null,null,32,{"$nulls":8},{"$f":"H21/3600","v":{"v":0,"d":"0.00"}},{"$nulls":9},{"$f":"R21/3600","v":{"v":0,"d":"0.00"}},{"$error":"#DIV/0!"},{"$error":"#DIV/0!"},{"$nulls":7},{"v":0,"d":"0.00"},{"v":0,"d":"0.00"}]
[null,null,37,{"$nulls":8},{"$f":"H22/3600","v":{"v":0,"d":"0.00"}},{"$nulls":9},{"$f":"R22/3600","v":{"v":0,"d":"0.00"}},{"$error":"#DIV/0!"},{"$error":"#DIV/0!"},{"$nulls":7},{"v":0,"d":"0.00"},{"v":0,"d":"0.00"}]
[null,"jianling_1920x1080_60Hz_8bit_420_02",22,{"$nulls":8},{"v":0,"d":"0.00"},{"$nulls":9},{"v":0,"d":"0.00"},{"$error":"#DIV/0!"},{"$error":"#DIV/0!"},null,{"$f":"bdrate($D23:$D26,E23:E26,$N23:$N26,O23:O26)","v":{"$error":"#VALUE!"}},{"$f":"bdrate($D23:$D26,F23:F26,$N23:$N26,P23:P26)","v":{"$error":"#VALUE!"}},{"$f":"bdrate($D23:$D26,G23:G26,$N23:$N26,Q23:Q26)","v":{"$error":"#VALUE!"}},{"$f":"bdrateOld($D23:$D26,E23:E26,$N23:$N26,O23:O26)","v":{"$error":"#VALUE!"}},{"$f":"bdrateOld($D23:$D26,F23:F26,$N23:$N26,P23:P26)","v":{"$error":"#VALUE!"}},{"$f":"bdrateOld($D23:$D26,G23:G26,$N23:$N26,Q23:Q26)","v":{"$error":"#VALUE!"}},{"v":0,"d":"0.00"},{"v":0,"d":"0.00"},{"$f":"bdrate($D23:$D26,AF23:AF26,$N23:$N26,AG23:AG26)","v":{"$error":"#VALUE!"}},{"$f":"bdrate($D23:$D26,J23:J26,$N23:$N26,T23:T26)","v":{"$error":"#VALUE!"}},{"$f":"bdrate($D23:$D26,K23:K26,$N23:$N26,U23:U26)","v":{"$error":"#VALUE!"}}]
[null,null,27,{"$nulls":8},{"v":0,"d":"0.00"},{"$nulls":9},{"v":0,"d":"0.00"},{"$error":"#DIV/0!"},{"$error":"#DIV/0!"},{"$nulls":7},{"v":0,"d":"0.00"},{"v":0,"d":"0.00"}]
[null,null,32,{"$nulls":8},{"v":0,"d":"0.00"},{"$nulls":9},{"v":0,"d":"0.00"},{"$error":"#DIV/0!"},{"$error":"#DIV/0!"},{"$nulls":7},{"v":0,"d":"0.00"},{"v":0,"d":"0.00"}]
[null,null,37,{"$nulls":8},{"v":0,"d":"0.00"},{"$nulls":9},{"v":0,"d":"0.00"},{"$error":"#DIV/0!"},{"$error":"#DIV/0!"},{"$nulls":7},{"v":0,"d":"0.00"},{"v":0,"d":"0.00"}]
[null,"jianling_1920x1080_60Hz_8bit_420_04",22,{"$nulls":8},{"v":0,"d":"0.00"},{"$nulls":9},{"v":0,"d":"0.00"},{"$error":"#DIV/0!"},{"$error":"#DIV/0!"},null,{"$f":"bdrate($D27:$D30,E27:E30,$N27:$N30,O27:O30)","v":{"$error":"#VALUE!"}},{"$f":"bdrate($D27:$D30,F27:F30,$N27:$N30,P27:P30)","v":{"$error":"#VALUE!"}},{"$f":"bdrate($D27:$D30,G27:G30,$N27:$N30,Q27:Q30)","v":{"$error":"#VALUE!"}},{"$f":"bdrateOld($D27:$D30,E27:E30,$N27:$N30,O27:O30)","v":{"$error":"#VALUE!"}},{"$f":"bdrateOld($D27:$D30,F27:F30,$N27:$N30,P27:P30)","v":{"$error":"#VALUE!"}},{"$f":"bdrateOld($D27:$D30,G27:G30,$N27:$N30,Q27:Q30)","v":{"$error":"#VALUE!"}},{"v":0,"d":"0.00"},{"v":0,"d":"0.00"},{"$f":"bdrate($D27:$D30,AF27:AF30,$N27:$N30,AG27:AG30)","v":{"$error":"#VALUE!"}},{"$f":"bdrate($D27:$D30,J27:J30,$N27:$N30,T27:T30)","v":{"$error":"#VALUE!"}},{"$error":"#VALUE!"}]
[null,null,27,{"$nulls":8},{"v":0,"d":"0.00"},{"$nulls":9},{"v":0,"d":"0.00"},{"$error":"#DIV/0!"},{"$error":"#DIV/0!"},{"$nulls":7},{"v":0,"d":"0.00"},{"v":0,"d":"0.00"}]
[null,null,32,{"$nulls":8},{"v":0,"d":"0.00"},{"$nulls":9},{"v":0,"d":"0.00"},{"$error":"#DIV/0!"},{"$error":"#DIV/0!"},{"$nulls":7},{"v":0,"d":"0.00"},{"v":0,"d":"0.00"}]
[null,null,37,{"$nulls":8},{"v":0,"d":"0.00"},{"$nulls":9},{"v":0,"d":"0.00"},{"$error":"#DIV/0!"},{"$error":"#DIV/0!"},{"$nulls":7},{"v":0,"d":"0.00"},{"v":0,"d":"0.00"}]
["Class Gaming","HeroesOfTheStorm_1920x1080_30Hz_8bit_P420_Part1",22,{"$nulls":8},{"v":0,"d":"0.00"},{"$nulls":9},{"v":0,"d":"0.00"},{"$error":"#DIV/0!"},{"$error":"#DIV/0!"},null,{"$f":"bdrate($D31:$D34,E31:E34,$N31:$N34,O31:O34)","v":{"$error":"#VALUE!"}},{"$f":"bdrate($D31:$D34,F31:F34,$N31:$N34,P31:P34)","v":{"$error":"#VALUE!"}},{"$f":"bdrate($D31:$D34,G31:G34,$N31:$N34,Q31:Q34)","v":{"$error":"#VALUE!"}},{"$f":"bdrateOld($D31:$D34,E31:E34,$N31:$N34,O31:O34)","v":{"$error":"#VALUE!"}},{"$f":"bdrateOld($D31:$D34,F31:F34,$N31:$N34,P31:P34)","v":{"$error":"#VALUE!"}},{"$f":"bdrateOld($D31:$D34,G31:G34,$N31:$N34,Q31:Q34)","v":{"$error":"#VALUE!"}},{"v":0,"d":"0.00"},{"v":0,"d":"0.00"},{"$f":"bdrate($D31:$D34,AF31:AF34,$N31:$N34,AG31:AG34)","v":{"$error":"#VALUE!"}},{"$f":"bdrate($D31:$D34,J31:J34,$N31:$N34,T31:T34)","v":{"$error":"#VALUE!"}},{"$error":"#VALUE!"}]
["HD",null,27,{"$nulls":8},{"v":0,"d":"0.00"},{"$nulls":9},{"v":0,"d":"0.00"},{"$error":"#DIV/0!"},{"$error":"#DIV/0!"},{"$nulls":7},{"v":0,"d":"0.00"},{"v":0,"d":"0.00"}]
["Kingston",null,32,{"$nulls":8},{"v":0,"d":"0.00"},{"$nulls":9},{"v":0,"d":"0.00"},{"$error":"#DIV/0!"},{"$error":"#DIV/0!"},{"$nulls":7},{"v":0,"d":"0.00"},{"v":0,"d":"0.00"}]
["University",null,37,{"$nulls":8},{"v":0,"d":"0.00"},{"$nulls":9},{"v":0,"d":"0.00"},{"$error":"#DIV/0!"},{"$error":"#DIV/0!"},{"$nulls":7},{"v":0,"d":"0.00"},{"v":0,"d":"0.00"}]
[null,"ProjectCars_1920x1080_30Hz_8bit_P420_Part1",22,{"$nulls":8},{"v":0,"d":"0.00"},{"$nulls":9},{"v":0,"d":"0.00"},{"$f":"R35/H35","v":{"$error":"#DIV/0!"}},{"$error":"#DIV/0!"},null,{"$f":"bdrate($D35:$D38,E35:E38,$N35:$N38,O35:O38)","v":{"$error":"#VALUE!"}},{"$f":"bdrate($D35:$D38,F35:F38,$N35:$N38,P35:P38)","v":{"$error":"#VALUE!"}},{"$f":"bdrate($D35:$D38,G35:G38,$N35:$N38,Q35:Q38)","v":{"$error":"#VALUE!"}},{"$f":"bdrateOld($D35:$D38,E35:E38,$N35:$N38,O35:O38)","v":{"$error":"#VALUE!"}},{"$f":"bdrateOld($D35:$D38,F35:F38,$N35:$N38,P35:P38)","v":{"$error":"#VALUE!"}},{"$f":"bdrateOld($D35:$D38,G35:G38,$N35:$N38,Q35:Q38)","v":{"$error":"#VALUE!"}},{"v":0,"d":"0.00"},{"v":0,"d":"0.00"},{"$f":"bdrate($D35:$D38,AF35:AF38,$N35:$N38,AG35:AG38)","v":{"$error":"#VALUE!"}},{"$f":"bdrate($D35:$D38,J35:J38,$N35:$N38,T35:T38)","v":{"$error":"#VALUE!"}},{"$error":"#VALUE!"}]
[null,null,27,{"$nulls":8},{"v":0,"d":"0.00"},{"$nulls":9},{"v":0,"d":"0.00"},{"$error":"#DIV/0!"},{"$error":"#DIV/0!"},{"$nulls":7},{"v":0,"d":"0.00"},{"v":0,"d":"0.00"}]
[null,null,32,{"$nulls":8},{"v":0,"d":"0.00"},{"$nulls":9},{"v":0,"d":"0.00"},{"$error":"#DIV/0!"},{"$error":"#DIV/0!"},{"$nulls":7},{"v":0,"d":"0.00"},{"v":0,"d":"0.00"}]
[null,null,37,{"$nulls":8},{"v":0,"d":"0.00"},{"$nulls":9},{"v":0,"d":"0.00"},{"$error":"#DIV/0!"},{"$error":"#DIV/0!"},{"$nulls":7},{"v":0,"d":"0.00"},{"v":0,"d":"0.00"}]
[null,"WoW_1920x1080_30Hz_8bit_P420_Part2",22,{"$nulls":8},{"v":0,"d":"0.00"},{"$nulls":9},{"v":0,"d":"0.00"},{"$error":"#DIV/0!"},{"$error":"#DIV/0!"},null,{"$f":"bdrate($D39:$D42,E39:E42,$N39:$N42,O39:O42)","v":{"$error":"#VALUE!"}},{"$f":"bdrate($D39:$D42,F39:F42,$N39:$N42,P39:P42)","v":{"$error":"#VALUE!"}},{"$f":"bdrate($D39:$D42,G39:G42,$N39:$N42,Q39:Q42)","v":{"$error":"#VALUE!"}},{"$f":"bdrateOld($D39:$D42,E39:E42,$N39:$N42,O39:O42)","v":{"$error":"#VALUE!"}},{"$f":"bdrateOld($D39:$D42,F39:F42,$N39:$N42,P39:P42)","v":{"$error":"#VALUE!"}},{"$f":"bdrateOld($D39:$D42,G39:G42,$N39:$N42,Q39:Q42)","v":{"$error":"#VALUE!"}},{"v":0,"d":"0.00"},{"v":0,"d":"0.00"},{"$f":"bdrate($D39:$D42,AF39:AF42,$N39:$N42,AG39:AG42)","v":{"$error":"#VALUE!"}},{"$f":"bdrate($D39:$D42,J39:J42,$N39:$N42,T39:T42)","v":{"$error":"#VALUE!"}},{"$error":"#VALUE!"}]
[null,null,27,{"$nulls":8},{"v":0,"d":"0.00"},{"$nulls":9},{"v":0,"d":"0.00"},{"$error":"#DIV/0!"},{"$error":"#DIV/0!"},{"$nulls":7},{"v":0,"d":"0.00"},{"v":0,"d":"0.00"}]
[null,null,32,{"$nulls":8},{"v":0,"d":"0.00"},{"$nulls":9},{"v":0,"d":"0.00"},{"$error":"#DIV/0!"},{"$error":"#DIV/0!"},{"$nulls":7},{"v":0,"d":"0.00"},{"v":0,"d":"0.00"}]
[null,null,37,{"$nulls":8},{"v":0,"d":"0.00"},{"$nulls":9},{"v":0,"d":"0.00"},{"$error":"#DIV/0!"},{"$error":"#DIV/0!"},{"$nulls":7},{"v":0,"d":"0.00"},{"v":0,"d":"0.00"}]
["Class Gaming","MINECRAFT_1920x1080_60Hz_8bit_P420",22,{"$nulls":8},{"v":0,"d":"0.00"},{"$nulls":9},{"v":0,"d":"0.00"},{"$error":"#DIV/0!"},{"$error":"#DIV/0!"},null,{"$f":"bdrate($D43:$D46,E43:E46,$N43:$N46,O43:O46)","v":{"$error":"#VALUE!"}},{"$f":"bdrate($D43:$D46,F43:F46,$N43:$N46,P43:P46)","v":{"$error":"#VALUE!"}},{"$f":"bdrate($D43:$D46,G43:G46,$N43:$N46,Q43:Q46)","v":{"$error":"#VALUE!"}},{"$f":"bdrateOld($D43:$D46,E43:E46,$N43:$N46,O43:O46)","v":{"$error":"#VALUE!"}},{"$f":"bdrateOld($D43:$D46,F43:F46,$N43:$N46,P43:P46)","v":{"$error":"#VALUE!"}},{"$f":"bdrateOld($D43:$D46,G43:G46,$N43:$N46,Q43:Q46)","v":{"$error":"#VALUE!"}},{"v":0,"d":"0.00"},{"v":0,"d":"0.00"},{"$f":"bdrate($D43:$D46,AF43:AF46,$N43:$N46,AG43:AG46)","v":{"$error":"#VALUE!"}},{"$f":"bdrate($D43:$D46,J43:J46,$N43:$N46,T43:T46)","v":{"$error":"#VALUE!"}},{"$error":"#VALUE!"}]
["HD",null,27,{"$nulls":8},{"v":0,"d":"0.00"},{"$nulls":9},{"v":0,"d":"0.00"},{"$error":"#DIV/0!"},{"$error":"#DIV/0!"},{"$nulls":7},{"v":0,"d":"0.00"},{"v":0,"d":"0.00"}]
["DERF_TWITCH",null,32,{"$nulls":8},{"v":0,"d":"0.00"},{"$nulls":9},{"v":0,"d":"0.00"},{"$error":"#DIV/0!"},{"$error":"#DIV/0!"},{"$nulls":7},{"v":0,"d":"0.00"},{"v":0,"d":"0.00"}]
[null,null,37,{"$nulls":8},{"v":0,"d":"0.00"},{"$nulls":9},{"v":0,"d":"0.00"},{"$error":"#DIV/0!"},{"$error":"#DIV/0!"},{"$nulls":7},{"v":0,"d":"0.00"},{"v":0,"d":"0.00"}]
[null,"CSGO_1920x1080_60Hz_8bit_P420",22,{"$nulls":8},{"v":0,"d":"0.00"},{"$nulls":9},{"v":0,"d":"0.00"},{"$error":"#DIV/0!"},{"$error":"#DIV/0!"},null,{"$f":"bdrate($D47:$D50,E47:E50,$N47:$N50,O47:O50)","v":{"$error":"#VALUE!"}},{"$f":"bdrate($D47:$D50,F47:F50,$N47:$N50,P47:P50)","v":{"$error":"#VALUE!"}},{"$f":"bdrate($D47:$D50,G47:G50,$N47:$N50,Q47:Q50)","v":{"$error":"#VALUE!"}},{"$f":"bdrateOld($D47:$D50,E47:E50,$N47:$N50,O47:O50)","v":{"$error":"#VALUE!"}},{"$f":"bdrateOld($D47:$D50,F47:F50,$N47:$N50,P47:P50)","v":{"$error":"#VALUE!"}},{"$f":"bdrateOld($D47:$D50,G47:G50,$N47:$N50,Q47:Q50)","v":{"$error":"#VALUE!"}},{"v":0,"d":"0.00"},{"v":0,"d":"0.00"},{"$f":"bdrate($D47:$D50,AF47:AF50,$N47:$N50,AG47:AG50)","v":{"$error":"#VALUE!"}},{"$f":"bdrate($D47:$D50,J47:J50,$N47:$N50,T47:T50)","v":{"$error":"#VALUE!"}},{"$error":"#VALUE!"}]
[null,null,27,{"$nulls":8},{"v":0,"d":"0.00"},{"$nulls":9},{"v":0,"d":"0.00"},{"$error":"#DIV/0!"},{"$error":"#DIV/0!"},{"$nulls":7},{"v":0,"d":"0.00"},{"v":0,"d":"0.00"}]
[null,null,32,{"$nulls":8},{"v":0,"d":"0.00"},{"$nulls":9},{"v":0,"d":"0.00"},{"$error":"#DIV/0!"},{"$error":"#DIV/0!"},{"$nulls":7},{"v":0,"d":"0.00"},{"v":0,"d":"0.00"}]
[null,null,37,{"$nulls":8},{"v":0,"d":"0.00"},{"$nulls":9},{"v":0,"d":"0.00"},{"$error":"#DIV/0!"},{"$error":"#DIV/0!"},{"$nulls":7},{"v":0,"d":"0.00"},{"v":0,"d":"0.00"}]
[null,"STARCRAFT_1920x1080_60Hz_8bit_P420",22,{"$nulls":8},{"v":0,"d":"0.00"},{"$nulls":9},{"v":0,"d":"0.00"},{"$error":"#DIV/0!"},{"$error":"#DIV/0!"},null,{"$f":"bdrate($D51:$D54,E51:E54,$N51:$N54,O51:O54)","v":{"$error":"#VALUE!"}},{"$f":"bdrate($D51:$D54,F51:F54,$N51:$N54,P51:P54)","v":{"$error":"#VALUE!"}},{"$f":"bdrate($D51:$D54,G51:G54,$N51:$N54,Q51:Q54)","v":{"$error":"#VALUE!"}},{"$f":"bdrateOld($D51:$D54,E51:E54,$N51:$N54,O51:O54)","v":{"$error":"#VALUE!"}},{"$f":"bdrateOld($D51:$D54,F51:F54,$N51:$N54,P51:P54)","v":{"$error":"#VALUE!"}},{"$f":"bdrateOld($D51:$D54,G51:G54,$N51:$N54,Q51:Q54)","v":{"$error":"#VALUE!"}},{"v":0,"d":"0.00"},{"v":0,"d":"0.00"},{"$f":"bdrate($D51:$D54,AF51:AF54,$N51:$N54,AG51:AG54)","v":{"$error":"#VALUE!"}},{"$f":"bdrate($D51:$D54,J51:J54,$N51:$N54,T51:T54)","v":{"$error":"#VALUE!"}},{"$error":"#VALUE!"}]
[null,null,27,{"$nulls":8},{"v":0,"d":"0.00"},{"$nulls":9},{"v":0,"d":"0.00"},{"$error":"#DIV/0!"},{"$error":"#DIV/0!"},{"$nulls":7},{"v":0,"d":"0.00"},{"v":0,"d":"0.00"}]
[null,null,32,{"$nulls":8},{"v":0,"d":"0.00"},{"$nulls":9},{"v":0,"d":"0.00"},{"$error":"#DIV/0!"},{"$error":"#DIV/0!"},{"$nulls":7},{"v":0,"d":"0.00"},{"v":0,"d":"0.00"}]
[null,null,37,{"$nulls":8},{"v":0,"d":"0.00"},{"$nulls":9},{"v":0,"d":"0.00"},{"$error":"#DIV/0!"},{"$error":"#DIV/0!"},{"$nulls":7},{"v":0,"d":"0.00"},{"v":0,"d":"0.00"}]
[null,"Class Gaming HD",{"$nulls":6},{"$f":"GEOMEAN(I3:I10,I15,I23:I54)","v":{"$error":"#NUM!"}},{"$f":"GEOMEAN(J3:J10,J15,J23:J54)","v":{"$error":"#NUM!"}},{"$error":"#NUM!"},{"$error":"#NUM!"},{"$nulls":6},{"$f":"GEOMEAN(S3:S10,S15,S23:S54)","v":{"$error":"#NUM!"}},{"$f":"GEOMEAN(T3:T10,T15,T23:T54)","v":{"$error":"#NUM!"}},{"$error":"#NUM!"},{"$error":"#NUM!"},{"$error":"#DIV/0!"},{"$error":"#DIV/0!"},null,{"$f":"AVERAGE(Z3:Z10,Z15,Z23:Z54)","v":{"$error":"#VALUE!"}},{"$f":"AVERAGE(AA3:AA10,AA15,AA23:AA54)","v":{"$error":"#VALUE!"}},{"$error":"#VALUE!"},{"$f":"AVERAGE(AC3:AC10,AC15,AC23:AC54)","v":{"$error":"#VALUE!"}},{"$f":"AVERAGE(AD3:AD10,AD15,AD23:AD54)","v":{"$error":"#VALUE!"}},{"$error":"#VALUE!"},null,null,{"$f":"AVERAGE(AH3:AH10,AH15,AH23:AH54)","v":{"$error":"#VALUE!"}},{"$f":"AVERAGE(AI3:AI10,AI15,AI23:AI54)","v":{"$error":"#VALUE!"}},{"$error":"#VALUE!"}]
[null,"Class Gaming UHD",{"$nulls":6},{"$f":"GEOMEAN(I11:I14,I19:I22)","v":{"$error":"#NUM!"}},{"$f":"GEOMEAN(J11:J14,J19:J22)","v":{"$error":"#NUM!"}},{"$error":"#NUM!"},{"$error":"#NUM!"},{"$nulls":6},{"$f":"GEOMEAN(S11:S14,S19:S22)","v":{"$error":"#NUM!"}},{"$f":"GEOMEAN(T11:T14,T19:T22)","v":{"$error":"#NUM!"}},{"$error":"#NUM!"},{"$error":"#NUM!"},{"$error":"#DIV/0!"},{"$error":"#DIV/0!"},null,{"$f":"AVERAGE(Z11,Z19)","v":{"$error":"#VALUE!"}},{"$f":"AVERAGE(AA11,AA19)","v":{"$error":"#VALUE!"}},{"$f":"AVERAGE(AB11,AB19)","v":{"$error":"#VALUE!"}},{"$f":"AVERAGE(AC11,AC19)","v":{"$error":"#VALUE!"}},{"$f":"AVERAGE(AD11,AD19)","v":{"$error":"#VALUE!"}},{"$f":"AVERAGE(AE11,AE19)","v":{"$error":"#VALUE!"}},null,null,{"$f":"AVERAGE(AH11,AH19)","v":{"$error":"#VALUE!"}},{"$f":"AVERAGE(AI11,AI19)","v":{"$error":"#VALUE!"}},{"$f":"AVERAGE(AJ11,AJ19)","v":{"$error":"#VALUE!"}}]
[null,"Class Gaming",{"$nulls":6},{"$f":"GEOMEAN(I3:I54)","v":{"$error":"#NUM!"}},null,null,{"$f":"GEOMEAN(L3:L54)","v":{"$error":"#NUM!"}},{"$nulls":6},{"$f":"GEOMEAN(S3:S54)","v":{"$error":"#NUM!"}},null,null,{"$f":"GEOMEAN(V3:V54)","v":{"$error":"#NUM!"}},{"$f":"GEOMEAN(W3:W54)","v":{"$error":"#DIV/0!"}},{"$f":"GEOMEAN(X3:X54)","v":{"$error":"#DIV/0!"}},null,{"$f":"AVERAGE(Z3:Z54)","v":{"$error":"#VALUE!"}},{"$error":"#VALUE!"},{"$error":"#VALUE!"},{"$error":"#VALUE!"},{"$error":"#VALUE!"},{"$error":"#VALUE!"},null,null,{"$f":"AVERAGE(AH3:AH54)","v":{"$error":"#VALUE!"}},{"$f":"AVERAGE(AI3:AI54)","v":{"$error":"#VALUE!"}},{"$f":"AVERAGE(AJ3:AJ54)","v":{"$error":"#VALUE!"}}]
[null,"All"]

{"sheet":"RA-10","index":3,"n_rows":58,"n_cols":36,"rows_kept":58,"merged":[[0,3,0,11],[0,13,0,21],[0,25,0,27],[0,28,0,30],[0,33,0,35]]}
[{"$nulls":3},{"$f":"Summary!M3","v":"HM-16.22 Main10"},{"$nulls":9},{"$f":"Summary!M4","v":"test"},{"$nulls":11},"BD-rate (piecewise cubic)",null,null,"BD-rate (cubic)",null,null,"Reference","Tested","BD-rate"]
[null,null,"QPISlice","kbps","Y psnr","U psnr","V psnr","Enc T [s]","Dec T [s]","VMAF","MS SSIM","Enc T [h]",null,"kbps","Y psnr","U psnr","V psnr","Enc T [s]","Dec T [s]","VMAF","MS SSIM","Enc T [h]","Enc","Dec",null,"Y","U","V","Y","U","V","Average PSNR","Average PSNR","YUV PSNR","VMAF","MS-SSIM"]
["Class Gaming","AOV5_1920x1080_60Hz_8bit_420",22,{"$nulls":8},{"$f":"H3/3600","v":{"v":0,"d":"0.00"}},{"$nulls":9},{"$f":"R3/3600","v":{"v":0,"d":"0.00"}},{"$f":"R3/H3","v":{"$error":"#DIV/0!"}},{"$error":"#DIV/0!"},null,{"$f":"bdrate($D3:$D6,E3:E6,$N3:$N6,O3:O6)","v":{"$error":"#VALUE!"}},{"$f":"bdrate($D3:$D6,F3:F6,$N3:$N6,P3:P6)","v":{"$error":"#VALUE!"}},{"$f":"bdrate($D3:$D6,G3:G6,$N3:$N6,Q3:Q6)","v":{"$error":"#VALUE!"}},{"$f":"bdrateOld($D3:$D6,E3:E6,$N3:$N6,O3:O6)","v":{"$error":"#VALUE!"}},{"$f":"bdrateOld($D3:$D6,F3:F6,$N3:$N6,P3:P6)","v":{"$error":"#VALUE!"}},{"$f":"bdrateOld($D3:$D6,G3:G6,$N3:$N6,Q3:Q6)","v":{"$error":"#VALUE!"}},{"$f":"(6*E3+F3+G3)/8","v":{"v":0,"d":"0.00"}},{"$f":"(6*O3+P3+Q3)/8","v":{"v":0,"d":"0.00"}},{"$f":"bdrate($D3:$D6,AF3:AF6,$N3:$N6,AG3:AG6)","v":{"$error":"#VALUE!"}},{"$f":"bdrate($D3:$D6,J3:J6,$N3:$N6,T3:T6)","v":{"$error":"#VALUE!"}},{"$error":"#VALUE!"}]
["HD Tencent",null,27,{"$nulls":8},{"v":0,"d":"0.00"},{"$nulls":9},{"v":0,"d":"0.00"},{"$error":"#DIV/0!"},{"$error":"#DIV/0!"},{"$nulls":7},{"v":0,"d":"0.00"},{"v":0,"d":"0.00"}]
[null,null,32,{"$nulls":8},{"v":0,"d":"0.00"},{"$nulls":9},{"v":0,"d":"0.00"},{"$error":"#DIV/0!"},{"$error":"#DIV/0!"},{"$nulls":7},{"v":0,"d":"0.00"},{"v":0,"d":"0.00"}]
[null,null,37,{"$nulls":8},{"v":0,"d":"0.00"},{"$nulls":9},{"v":0,"d":"0.00"},{"$error":"#DIV/0!"},{"$error":"#DIV/0!"},{"$nulls":7},{"v":0,"d":"0.00"},{"v":0,"d":"0.00"}]
[null,"baolei_1920x1080_60Hz_8bit_420_01",22,{"$nulls":8},{"v":0,"d":"0.00"},{"$nulls":9},{"v":0,"d":"0.00"},{"$error":"#DIV/0!"},{"$error":"#DIV/0!"},null,{"$f":"bdrate($D7:$D10,E7:E10,$N7:$N10,O7:O10)","v":{"$error":"#VALUE!"}},{"$f":"bdrate($D7:$D10,F7:F10,$N7:$N10,P7:P10)","v":{"$error":"#VALUE!"}},{"$f":"bdrate($D7:$D10,G7:G10,$N7:$N10,Q7:Q10)","v":{"$error":"#VALUE!"}},{"$f":"bdrateOld($D7:$D10,E7:E10,$N7:$N10,O7:O10)","v":{"$error":"#VALUE!"}},{"$f":"bdrateOld($D7:$D10,F7:F10,$N7:$N10,P7:P10)","v":{"$error":"#VALUE!"}},{"$f":"bdrateOld($D7:$D10,G7:G10,$N7:$N10,Q7:Q10)","v":{"$error":"#VALUE!"}},{"v":0,"d":"0.00"},{"v":0,"d":"0.00"},{"$f":"bdrate($D7:$D10,AF7:AF10,$N7:$N10,AG7:AG10)","v":{"$error":"#VALUE!"}},{"$f":"bdrate($D7:$D10,J7:J10,$N7:$N10,T7:T10)","v":{"$error":"#VALUE!"}},{"$error":"#VALUE!"}]
[null,null,27,{"$nulls":8},{"v":0,"d":"0.00"},{"$nulls":9},{"v":0,"d":"0.00"},{"$error":"#DIV/0!"},{"$error":"#DIV/0!"},{"$nulls":7},{"v":0,"d":"0.00"},{"v":0,"d":"0.00"}]
[null,null,32,{"$nulls":8},{"v":0,"d":"0.00"},{"$nulls":9},{"v":0,"d":"0.00"},{"$error":"#DIV/0!"},{"$error":"#DIV/0!"},{"$nulls":7},{"v":0,"d":"0.00"},{"v":0,"d":"0.00"}]
[null,null,37,{"$nulls":8},{"v":0,"d":"0.00"},{"$nulls":9},{"v":0,"d":"0.00"},{"$error":"#DIV/0!"},{"$error":"#DIV/0!"},{"$nulls":7},{"v":0,"d":"0.00"},{"v":0,"d":"0.00"}]
[null,"baolei_4096x2160_60Hz_8bit_420_01",22,{"$nulls":8},{"$f":"H11/3600","v":{"v":0,"d":"0.00"}},{"$nulls":9},{"$f":"R11/3600","v":{"v":0,"d":"0.00"}},{"$error":"#DIV/0!"},{"$error":"#DIV/0!"},null,{"$f":"bdrate($D11:$D14,E11:E14,$N11:$N14,O11:O14)","v":{"$error":"#VALUE!"}},{"$f":"bdrate($D11:$D14,F11:F14,$N11:$N14,P11:P14)","v":{"$error":"#VALUE!"}},{"$f":"bdrate($D11:$D14,G11:G14,$N11:$N14,Q11:Q14)","v":{"$error":"#VALUE!"}},{"$f":"bdrateOld($D11:$D14,E11:E14,$N11:$N14,O11:O14)","v":{"$error":"#VALUE!"}},{"$f":"bdrateOld($D11:$D14,F11:F14,$N11:$N14,P11:P14)","v":{"$error":"#VALUE!"}},{"$f":"bdrateOld($D11:$D14,G11:G14,$N11:$N14,Q11:Q14)","v":{"$error":"#VALUE!"}},{"v":0,"d":"0.00"},{"v":0,"d":"0.00"},{"$f":"bdrate($D11:$D14,AF11:AF14,$N11:$N14,AG11:AG14)","v":{"$error":"#VALUE!"}},{"$f":"bdrate($D11:$D14,J11:J14,$N11:$N14,T11:T14)","v":{"$error":"#VALUE!"}},{"$error":"#VALUE!"}]
[null,null,27,{"$nulls":8},{"$f":"H12/3600","v":{"v":0,"d":"0.00"}},{"$nulls":9},{"$f":"R12/3600","v":{"v":0,"d":"0.00"}},{"$error":"#DIV/0!"},{"$error":"#DIV/0!"},{"$nulls":7},{"v":0,"d":"0.00"},{"v":0,"d":"0.00"}]
[null,null,32,{"$nulls":8},{"$f":"H13/3600","v":{"v":0,"d":"0.00"}},{"$nulls":9},{"$f":"R13/3600","v":{"v":0,"d":"0.00"}},{"$error":"#DIV/0!"},{"$error":"#DIV/0!"},{"$nulls":7},{"v":0,"d":"0.00"},{"v":0,"d":"0.00"}]
[null,null,37,{"$nulls":8},{"$f":"H14/3600","v":{"v":0,"d":"0.00"}},{"$nulls":9},{"$f":"R14/3600","v":{"v":0,"d":"0.00"}},{"$error":"#DIV/0!"},{"$error":"#DIV/0!"},{"$nulls":7},{"v":0,"d":"0.00"},{"v":0,"d":"0.00"}]
[null,"baolei_1920x1080_60Hz_8bit_420_02",22,{"$nulls":8},{"v":0,"d":"0.00"},{"$nulls":9},{"v":0,"d":"0.00"},{"$error":"#DIV/0!"},{"$error":"#DIV/0!"},null,{"$f":"bdrate($D15:$D18,E15:E18,$N15:$N18,O15:O18)","v":{"$error":"#VALUE!"}},{"$f":"bdrate($D15:$D18,F15:F18,$N15:$N18,P15:P18)","v":{"$error":"#VALUE!"}},{"$f":"bdrate($D15:$D18,G15:G18,$N15:$N18,Q15:Q18)","v":{"$error":"#VALUE!"}},{"$f":"bdrateOld($D15:$D18,E15:E18,$N15:$N18,O15:O18)","v":{"$error":"#VALUE!"}},{"$f":"bdrateOld($D15:$D18,F15:F18,$N15:$N18,P15:P18)","v":{"$error":"#VALUE!"}},{"$f":"bdrateOld($D15:$D18,G15:G18,$N15:$N18,Q15:Q18)","v":{"$error":"#VALUE!"}},{"v":0,"d":"0.00"},{"v":0,"d":"0.00"},{"$f":"bdrate($D15:$D18,AF15:AF18,$N15:$N18,AG15:AG18)","v":{"$error":"#VALUE!"}},{"$f":"bdrate($D15:$D18,J15:J18,$N15:$N18,T15:T18)","v":{"$error":"#VALUE!"}},{"$error":"#VALUE!"}]
[null,null,27,{"$nulls":8},{"v":0,"d":"0.00"},{"$nulls":9},{"v":0,"d":"0.00"},{"$error":"#DIV/0!"},{"$error":"#DIV/0!"},{"$nulls":7},{"v":0,"d":"0.00"},{"v":0,"d":"0.00"}]
[null,null,32,{"$nulls":8},{"v":0,"d":"0.00"},{"$nulls":9},{"v":0,"d":"0.00"},{"$error":"#DIV/0!"},{"$error":"#DIV/0!"},{"$nulls":7},{"v":0,"d":"0.00"},{"v":0,"d":"0.00"}]
[null,null,37,{"$nulls":8},{"v":0,"d":"0.00"},{"$nulls":9},{"v":0,"d":"0.00"},{"$error":"#DIV/0!"},{"$error":"#DIV/0!"},{"$nulls":7},{"v":0,"d":"0.00"},{"v":0,"d":"0.00"}]
[null,"baolei_4096x2160_60Hz_8bit_420_02",22,{"$nulls":8},{"$f":"H19/3600","v":{"v":0,"d":"0.00"}},{"$nulls":9},{"$f":"R19/3600","v":{"v":0,"d":"0.00"}},{"$error":"#DIV/0!"},{"$error":"#DIV/0!"},null,{"$f":"bdrate($D19:$D22,E19:E22,$N19:$N22,O19:O22)","v":{"$error":"#VALUE!"}},{"$f":"bdrate($D19:$D22,F19:F22,$N19:$N22,P19:P22)","v":{"$error":"#VALUE!"}},{"$f":"bdrate($D19:$D22,G19:G22,$N19:$N22,Q19:Q22)","v":{"$error":"#VALUE!"}},{"$f":"bdrateOld($D19:$D22,E19:E22,$N19:$N22,O19:O22)","v":{"$error":"#VALUE!"}},{"$f":"bdrateOld($D19:$D22,F19:F22,$N19:$N22,P19:P22)","v":{"$error":"#VALUE!"}},{"$f":"bdrateOld($D19:$D22,G19:G22,$N19:$N22,Q19:Q22)","v":{"$error":"#VALUE!"}},{"v":0,"d":"0.00"},{"v":0,"d":"0.00"},{"$f":"bdrate($D19:$D22,AF19:AF22,$N19:$N22,AG19:AG22)","v":{"$error":"#VALUE!"}},{"$f":"bdrate($D19:$D22,J19:J22,$N19:$N22,T19:T22)","v":{"$error":"#VALUE!"}},{"$error":"#VALUE!"}]
[null,null,27,{"$nulls":8},{"$f":"H20/3600","v":{"v":0,"d":"0.00"}},{"$nulls":9},{"$f":"R20/3600","v":{"v":0,"d":"0.00"}},{"$error":"#DIV/0!"},{"$error":"#DIV/0!"},{"$nulls":7},{"v":0,"d":"0.00"},{"v":0,"d":"0.00"}]
[null,null,32,{"$nulls":8},{"$f":"H21/3600","v":{"v":0,"d":"0.00"}},{"$nulls":9},{"$f":"R21/3600","v":{"v":0,"d":"0.00"}},{"$error":"#DIV/0!"},{"$error":"#DIV/0!"},{"$nulls":7},{"v":0,"d":"0.00"},{"v":0,"d":"0.00"}]
[null,null,37,{"$nulls":8},{"$f":"H22/3600","v":{"v":0,"d":"0.00"}},{"$nulls":9},{"$f":"R22/3600","v":{"v":0,"d":"0.00"}},{"$error":"#DIV/0!"},{"$error":"#DIV/0!"},{"$nulls":7},{"v":0,"d":"0.00"},{"v":0,"d":"0.00"}]
[null,"jianling_1920x1080_60Hz_8bit_420_02",22,{"$nulls":8},{"v":0,"d":"0.00"},{"$nulls":9},{"v":0,"d":"0.00"},{"$error":"#DIV/0!"},{"$error":"#DIV/0!"},null,{"$f":"bdrate($D23:$D26,E23:E26,$N23:$N26,O23:O26)","v":{"$error":"#VALUE!"}},{"$f":"bdrate($D23:$D26,F23:F26,$N23:$N26,P23:P26)","v":{"$error":"#VALUE!"}},{"$f":"bdrate($D23:$D26,G23:G26,$N23:$N26,Q23:Q26)","v":{"$error":"#VALUE!"}},{"$f":"bdrateOld($D23:$D26,E23:E26,$N23:$N26,O23:O26)","v":{"$error":"#VALUE!"}},{"$f":"bdrateOld($D23:$D26,F23:F26,$N23:$N26,P23:P26)","v":{"$error":"#VALUE!"}},{"$f":"bdrateOld($D23:$D26,G23:G26,$N23:$N26,Q23:Q26)","v":{"$error":"#VALUE!"}},{"v":0,"d":"0.00"},{"v":0,"d":"0.00"},{"$f":"bdrate($D23:$D26,AF23:AF26,$N23:$N26,AG23:AG26)","v":{"$error":"#VALUE!"}},{"$f":"bdrate($D23:$D26,J23:J26,$N23:$N26,T23:T26)","v":{"$error":"#VALUE!"}},{"$f":"bdrate($D23:$D26,K23:K26,$N23:$N26,U23:U26)","v":{"$error":"#VALUE!"}}]
[null,null,27,{"$nulls":8},{"v":0,"d":"0.00"},{"$nulls":9},{"v":0,"d":"0.00"},{"$error":"#DIV/0!"},{"$error":"#DIV/0!"},{"$nulls":7},{"v":0,"d":"0.00"},{"v":0,"d":"0.00"}]
[null,null,32,{"$nulls":8},{"v":0,"d":"0.00"},{"$nulls":9},{"v":0,"d":"0.00"},{"$error":"#DIV/0!"},{"$error":"#DIV/0!"},{"$nulls":7},{"v":0,"d":"0.00"},{"v":0,"d":"0.00"}]
[null,null,37,{"$nulls":8},{"v":0,"d":"0.00"},{"$nulls":9},{"v":0,"d":"0.00"},{"$error":"#DIV/0!"},{"$error":"#DIV/0!"},{"$nulls":7},{"v":0,"d":"0.00"},{"v":0,"d":"0.00"}]
[null,"jianling_1920x1080_60Hz_8bit_420_04",22,{"$nulls":8},{"v":0,"d":"0.00"},{"$nulls":9},{"v":0,"d":"0.00"},{"$error":"#DIV/0!"},{"$error":"#DIV/0!"},null,{"$f":"bdrate($D27:$D30,E27:E30,$N27:$N30,O27:O30)","v":{"$error":"#VALUE!"}},{"$f":"bdrate($D27:$D30,F27:F30,$N27:$N30,P27:P30)","v":{"$error":"#VALUE!"}},{"$f":"bdrate($D27:$D30,G27:G30,$N27:$N30,Q27:Q30)","v":{"$error":"#VALUE!"}},{"$f":"bdrateOld($D27:$D30,E27:E30,$N27:$N30,O27:O30)","v":{"$error":"#VALUE!"}},{"$f":"bdrateOld($D27:$D30,F27:F30,$N27:$N30,P27:P30)","v":{"$error":"#VALUE!"}},{"$f":"bdrateOld($D27:$D30,G27:G30,$N27:$N30,Q27:Q30)","v":{"$error":"#VALUE!"}},{"v":0,"d":"0.00"},{"v":0,"d":"0.00"},{"$f":"bdrate($D27:$D30,AF27:AF30,$N27:$N30,AG27:AG30)","v":{"$error":"#VALUE!"}},{"$f":"bdrate($D27:$D30,J27:J30,$N27:$N30,T27:T30)","v":{"$error":"#VALUE!"}},{"$error":"#VALUE!"}]
[null,null,27,{"$nulls":8},{"v":0,"d":"0.00"},{"$nulls":9},{"v":0,"d":"0.00"},{"$error":"#DIV/0!"},{"$error":"#DIV/0!"},{"$nulls":7},{"v":0,"d":"0.00"},{"v":0,"d":"0.00"}]
[null,null,32,{"$nulls":8},{"v":0,"d":"0.00"},{"$nulls":9},{"v":0,"d":"0.00"},{"$error":"#DIV/0!"},{"$error":"#DIV/0!"},{"$nulls":7},{"v":0,"d":"0.00"},{"v":0,"d":"0.00"}]
[null,null,37,{"$nulls":8},{"v":0,"d":"0.00"},{"$nulls":9},{"v":0,"d":"0.00"},{"$error":"#DIV/0!"},{"$error":"#DIV/0!"},{"$nulls":7},{"v":0,"d":"0.00"},{"v":0,"d":"0.00"}]
["Class Gaming","HeroesOfTheStorm_1920x1080_30Hz_8bit_P420_Part1",22,{"$nulls":8},{"v":0,"d":"0.00"},{"$nulls":9},{"v":0,"d":"0.00"},{"$error":"#DIV/0!"},{"$error":"#DIV/0!"},null,{"$f":"bdrate($D31:$D34,E31:E34,$N31:$N34,O31:O34)","v":{"$error":"#VALUE!"}},{"$f":"bdrate($D31:$D34,F31:F34,$N31:$N34,P31:P34)","v":{"$error":"#VALUE!"}},{"$f":"bdrate($D31:$D34,G31:G34,$N31:$N34,Q31:Q34)","v":{"$error":"#VALUE!"}},{"$f":"bdrateOld($D31:$D34,E31:E34,$N31:$N34,O31:O34)","v":{"$error":"#VALUE!"}},{"$f":"bdrateOld($D31:$D34,F31:F34,$N31:$N34,P31:P34)","v":{"$error":"#VALUE!"}},{"$f":"bdrateOld($D31:$D34,G31:G34,$N31:$N34,Q31:Q34)","v":{"$error":"#VALUE!"}},{"v":0,"d":"0.00"},{"v":0,"d":"0.00"},{"$f":"bdrate($D31:$D34,AF31:AF34,$N31:$N34,AG31:AG34)","v":{"$error":"#VALUE!"}},{"$f":"bdrate($D31:$D34,J31:J34,$N31:$N34,T31:T34)","v":{"$error":"#VALUE!"}},{"$error":"#VALUE!"}]
["HD",null,27,{"$nulls":8},{"v":0,"d":"0.00"},{"$nulls":9},{"v":0,"d":"0.00"},{"$error":"#DIV/0!"},{"$error":"#DIV/0!"},{"$nulls":7},{"v":0,"d":"0.00"},{"v":0,"d":"0.00"}]
["Kingston",null,32,{"$nulls":8},{"v":0,"d":"0.00"},{"$nulls":9},{"v":0,"d":"0.00"},{"$error":"#DIV/0!"},{"$error":"#DIV/0!"},{"$nulls":7},{"v":0,"d":"0.00"},{"v":0,"d":"0.00"}]
["University",null,37,{"$nulls":8},{"v":0,"d":"0.00"},{"$nulls":9},{"v":0,"d":"0.00"},{"$error":"#DIV/0!"},{"$error":"#DIV/0!"},{"$nulls":7},{"v":0,"d":"0.00"},{"v":0,"d":"0.00"}]
[null,"ProjectCars_1920x1080_30Hz_8bit_P420_Part1",22,{"$nulls":8},{"v":0,"d":"0.00"},{"$nulls":9},{"v":0,"d":"0.00"},{"$f":"R35/H35","v":{"$error":"#DIV/0!"}},{"$error":"#DIV/0!"},null,{"$f":"bdrate($D35:$D38,E35:E38,$N35:$N38,O35:O38)","v":{"$error":"#VALUE!"}},{"$f":"bdrate($D35:$D38,F35:F38,$N35:$N38,P35:P38)","v":{"$error":"#VALUE!"}},{"$f":"bdrate($D35:$D38,G35:G38,$N35:$N38,Q35:Q38)","v":{"$error":"#VALUE!"}},{"$f":"bdrateOld($D35:$D38,E35:E38,$N35:$N38,O35:O38)","v":{"$error":"#VALUE!"}},{"$f":"bdrateOld($D35:$D38,F35:F38,$N35:$N38,P35:P38)","v":{"$error":"#VALUE!"}},{"$f":"bdrateOld($D35:$D38,G35:G38,$N35:$N38,Q35:Q38)","v":{"$error":"#VALUE!"}},{"v":0,"d":"0.00"},{"v":0,"d":"0.00"},{"$f":"bdrate($D35:$D38,AF35:AF38,$N35:$N38,AG35:AG38)","v":{"$error":"#VALUE!"}},{"$f":"bdrate($D35:$D38,J35:J38,$N35:$N38,T35:T38)","v":{"$error":"#VALUE!"}},{"$error":"#VALUE!"}]
[null,null,27,{"$nulls":8},{"v":0,"d":"0.00"},{"$nulls":9},{"v":0,"d":"0.00"},{"$error":"#DIV/0!"},{"$error":"#DIV/0!"},{"$nulls":7},{"v":0,"d":"0.00"},{"v":0,"d":"0.00"}]
[null,null,32,{"$nulls":8},{"v":0,"d":"0.00"},{"$nulls":9},{"v":0,"d":"0.00"},{"$error":"#DIV/0!"},{"$error":"#DIV/0!"},{"$nulls":7},{"v":0,"d":"0.00"},{"v":0,"d":"0.00"}]
[null,null,37,{"$nulls":8},{"v":0,"d":"0.00"},{"$nulls":9},{"v":0,"d":"0.00"},{"$error":"#DIV/0!"},{"$error":"#DIV/0!"},{"$nulls":7},{"v":0,"d":"0.00"},{"v":0,"d":"0.00"}]
[null,"WoW_1920x1080_30Hz_8bit_P420_Part2",22,{"$nulls":8},{"v":0,"d":"0.00"},{"$nulls":9},{"v":0,"d":"0.00"},{"$error":"#DIV/0!"},{"$error":"#DIV/0!"},null,{"$f":"bdrate($D39:$D42,E39:E42,$N39:$N42,O39:O42)","v":{"$error":"#VALUE!"}},{"$f":"bdrate($D39:$D42,F39:F42,$N39:$N42,P39:P42)","v":{"$error":"#VALUE!"}},{"$f":"bdrate($D39:$D42,G39:G42,$N39:$N42,Q39:Q42)","v":{"$error":"#VALUE!"}},{"$f":"bdrateOld($D39:$D42,E39:E42,$N39:$N42,O39:O42)","v":{"$error":"#VALUE!"}},{"$f":"bdrateOld($D39:$D42,F39:F42,$N39:$N42,P39:P42)","v":{"$error":"#VALUE!"}},{"$f":"bdrateOld($D39:$D42,G39:G42,$N39:$N42,Q39:Q42)","v":{"$error":"#VALUE!"}},{"v":0,"d":"0.00"},{"v":0,"d":"0.00"},{"$f":"bdrate($D39:$D42,AF39:AF42,$N39:$N42,AG39:AG42)","v":{"$error":"#VALUE!"}},{"$f":"bdrate($D39:$D42,J39:J42,$N39:$N42,T39:T42)","v":{"$error":"#VALUE!"}},{"$error":"#VALUE!"}]
[null,null,27,{"$nulls":8},{"v":0,"d":"0.00"},{"$nulls":9},{"v":0,"d":"0.00"},{"$error":"#DIV/0!"},{"$error":"#DIV/0!"},{"$nulls":7},{"v":0,"d":"0.00"},{"v":0,"d":"0.00"}]
[null,null,32,{"$nulls":8},{"v":0,"d":"0.00"},{"$nulls":9},{"v":0,"d":"0.00"},{"$error":"#DIV/0!"},{"$error":"#DIV/0!"},{"$nulls":7},{"v":0,"d":"0.00"},{"v":0,"d":"0.00"}]
[null,null,37,{"$nulls":8},{"v":0,"d":"0.00"},{"$nulls":9},{"v":0,"d":"0.00"},{"$error":"#DIV/0!"},{"$error":"#DIV/0!"},{"$nulls":7},{"v":0,"d":"0.00"},{"v":0,"d":"0.00"}]
["Class Gaming","MINECRAFT_1920x1080_60Hz_8bit_P420",22,{"$nulls":8},{"v":0,"d":"0.00"},{"$nulls":9},{"v":0,"d":"0.00"},{"$error":"#DIV/0!"},{"$error":"#DIV/0!"},null,{"$f":"bdrate($D43:$D46,E43:E46,$N43:$N46,O43:O46)","v":{"$error":"#VALUE!"}},{"$f":"bdrate($D43:$D46,F43:F46,$N43:$N46,P43:P46)","v":{"$error":"#VALUE!"}},{"$f":"bdrate($D43:$D46,G43:G46,$N43:$N46,Q43:Q46)","v":{"$error":"#VALUE!"}},{"$f":"bdrateOld($D43:$D46,E43:E46,$N43:$N46,O43:O46)","v":{"$error":"#VALUE!"}},{"$f":"bdrateOld($D43:$D46,F43:F46,$N43:$N46,P43:P46)","v":{"$error":"#VALUE!"}},{"$f":"bdrateOld($D43:$D46,G43:G46,$N43:$N46,Q43:Q46)","v":{"$error":"#VALUE!"}},{"v":0,"d":"0.00"},{"v":0,"d":"0.00"},{"$f":"bdrate($D43:$D46,AF43:AF46,$N43:$N46,AG43:AG46)","v":{"$error":"#VALUE!"}},{"$f":"bdrate($D43:$D46,J43:J46,$N43:$N46,T43:T46)","v":{"$error":"#VALUE!"}},{"$error":"#VALUE!"}]
["HD",null,27,{"$nulls":8},{"v":0,"d":"0.00"},{"$nulls":9},{"v":0,"d":"0.00"},{"$error":"#DIV/0!"},{"$error":"#DIV/0!"},{"$nulls":7},{"v":0,"d":"0.00"},{"v":0,"d":"0.00"}]
["DERF_TWITCH",null,32,{"$nulls":8},{"v":0,"d":"0.00"},{"$nulls":9},{"v":0,"d":"0.00"},{"$error":"#DIV/0!"},{"$error":"#DIV/0!"},{"$nulls":7},{"v":0,"d":"0.00"},{"v":0,"d":"0.00"}]
[null,null,37,{"$nulls":8},{"v":0,"d":"0.00"},{"$nulls":9},{"v":0,"d":"0.00"},{"$error":"#DIV/0!"},{"$error":"#DIV/0!"},{"$nulls":7},{"v":0,"d":"0.00"},{"v":0,"d":"0.00"}]
[null,"CSGO_1920x1080_60Hz_8bit_P420",22,{"$nulls":8},{"v":0,"d":"0.00"},{"$nulls":9},{"v":0,"d":"0.00"},{"$error":"#DIV/0!"},{"$error":"#DIV/0!"},null,{"$f":"bdrate($D47:$D50,E47:E50,$N47:$N50,O47:O50)","v":{"$error":"#VALUE!"}},{"$f":"bdrate($D47:$D50,F47:F50,$N47:$N50,P47:P50)","v":{"$error":"#VALUE!"}},{"$f":"bdrate($D47:$D50,G47:G50,$N47:$N50,Q47:Q50)","v":{"$error":"#VALUE!"}},{"$f":"bdrateOld($D47:$D50,E47:E50,$N47:$N50,O47:O50)","v":{"$error":"#VALUE!"}},{"$f":"bdrateOld($D47:$D50,F47:F50,$N47:$N50,P47:P50)","v":{"$error":"#VALUE!"}},{"$f":"bdrateOld($D47:$D50,G47:G50,$N47:$N50,Q47:Q50)","v":{"$error":"#VALUE!"}},{"v":0,"d":"0.00"},{"v":0,"d":"0.00"},{"$f":"bdrate($D47:$D50,AF47:AF50,$N47:$N50,AG47:AG50)","v":{"$error":"#VALUE!"}},{"$f":"bdrate($D47:$D50,J47:J50,$N47:$N50,T47:T50)","v":{"$error":"#VALUE!"}},{"$error":"#VALUE!"}]
[null,null,27,{"$nulls":8},{"v":0,"d":"0.00"},{"$nulls":9},{"v":0,"d":"0.00"},{"$error":"#DIV/0!"},{"$error":"#DIV/0!"},{"$nulls":7},{"v":0,"d":"0.00"},{"v":0,"d":"0.00"}]
[null,null,32,{"$nulls":8},{"v":0,"d":"0.00"},{"$nulls":9},{"v":0,"d":"0.00"},{"$error":"#DIV/0!"},{"$error":"#DIV/0!"},{"$nulls":7},{"v":0,"d":"0.00"},{"v":0,"d":"0.00"}]
[null,null,37,{"$nulls":8},{"v":0,"d":"0.00"},{"$nulls":9},{"v":0,"d":"0.00"},{"$error":"#DIV/0!"},{"$error":"#DIV/0!"},{"$nulls":7},{"v":0,"d":"0.00"},{"v":0,"d":"0.00"}]
[null,"STARCRAFT_1920x1080_60Hz_8bit_P420",22,{"$nulls":8},{"v":0,"d":"0.00"},{"$nulls":9},{"v":0,"d":"0.00"},{"$error":"#DIV/0!"},{"$error":"#DIV/0!"},null,{"$f":"bdrate($D51:$D54,E51:E54,$N51:$N54,O51:O54)","v":{"$error":"#VALUE!"}},{"$f":"bdrate($D51:$D54,F51:F54,$N51:$N54,P51:P54)","v":{"$error":"#VALUE!"}},{"$f":"bdrate($D51:$D54,G51:G54,$N51:$N54,Q51:Q54)","v":{"$error":"#VALUE!"}},{"$f":"bdrateOld($D51:$D54,E51:E54,$N51:$N54,O51:O54)","v":{"$error":"#VALUE!"}},{"$f":"bdrateOld($D51:$D54,F51:F54,$N51:$N54,P51:P54)","v":{"$error":"#VALUE!"}},{"$f":"bdrateOld($D51:$D54,G51:G54,$N51:$N54,Q51:Q54)","v":{"$error":"#VALUE!"}},{"v":0,"d":"0.00"},{"v":0,"d":"0.00"},{"$f":"bdrate($D51:$D54,AF51:AF54,$N51:$N54,AG51:AG54)","v":{"$error":"#VALUE!"}},{"$f":"bdrate($D51:$D54,J51:J54,$N51:$N54,T51:T54)","v":{"$error":"#VALUE!"}},{"$error":"#VALUE!"}]
[null,null,27,{"$nulls":8},{"v":0,"d":"0.00"},{"$nulls":9},{"v":0,"d":"0.00"},{"$error":"#DIV/0!"},{"$error":"#DIV/0!"},{"$nulls":7},{"v":0,"d":"0.00"},{"v":0,"d":"0.00"}]
[null,null,32,{"$nulls":8},{"v":0,"d":"0.00"},{"$nulls":9},{"v":0,"d":"0.00"},{"$error":"#DIV/0!"},{"$error":"#DIV/0!"},{"$nulls":7},{"v":0,"d":"0.00"},{"v":0,"d":"0.00"}]
[null,null,37,{"$nulls":8},{"v":0,"d":"0.00"},{"$nulls":9},{"v":0,"d":"0.00"},{"$error":"#DIV/0!"},{"$error":"#DIV/0!"},{"$nulls":7},{"v":0,"d":"0.00"},{"v":0,"d":"0.00"}]
[null,"Class Gaming HD",{"$nulls":6},{"$f":"GEOMEAN(I3:I10,I15,I23:I54)","v":{"$error":"#NUM!"}},{"$f":"GEOMEAN(J3:J10,J15,J23:J54)","v":{"$error":"#NUM!"}},{"$error":"#NUM!"},{"$error":"#NUM!"},{"$nulls":6},{"$f":"GEOMEAN(S3:S10,S15,S23:S54)","v":{"$error":"#NUM!"}},{"$f":"GEOMEAN(T3:T10,T15,T23:T54)","v":{"$error":"#NUM!"}},{"$error":"#NUM!"},{"$error":"#NUM!"},{"$error":"#DIV/0!"},{"$error":"#DIV/0!"},null,{"$f":"AVERAGE(Z3:Z10,Z15,Z23:Z54)","v":{"$error":"#VALUE!"}},{"$f":"AVERAGE(AA3:AA10,AA15,AA23:AA54)","v":{"$error":"#VALUE!"}},{"$error":"#VALUE!"},{"$f":"AVERAGE(AC3:AC10,AC15,AC23:AC54)","v":{"$error":"#VALUE!"}},{"$f":"AVERAGE(AD3:AD10,AD15,AD23:AD54)","v":{"$error":"#VALUE!"}},{"$error":"#VALUE!"},null,null,{"$f":"AVERAGE(AH3:AH10,AH15,AH23:AH54)","v":{"$error":"#VALUE!"}},{"$f":"AVERAGE(AI3:AI10,AI15,AI23:AI54)","v":{"$error":"#VALUE!"}},{"$error":"#VALUE!"}]
[null,"Class Gaming UHD",{"$nulls":6},{"$f":"GEOMEAN(I11:I14,I19:I22)","v":{"$error":"#NUM!"}},{"$f":"GEOMEAN(J11:J14,J19:J22)","v":{"$error":"#NUM!"}},{"$error":"#NUM!"},{"$error":"#NUM!"},{"$nulls":6},{"$f":"GEOMEAN(S11:S14,S19:S22)","v":{"$error":"#NUM!"}},{"$f":"GEOMEAN(T11:T14,T19:T22)","v":{"$error":"#NUM!"}},{"$error":"#NUM!"},{"$error":"#NUM!"},{"$error":"#DIV/0!"},{"$error":"#DIV/0!"},null,{"$f":"AVERAGE(Z11,Z19)","v":{"$error":"#VALUE!"}},{"$f":"AVERAGE(AA11,AA19)","v":{"$error":"#VALUE!"}},{"$f":"AVERAGE(AB11,AB19)","v":{"$error":"#VALUE!"}},{"$f":"AVERAGE(AC11,AC19)","v":{"$error":"#VALUE!"}},{"$f":"AVERAGE(AD11,AD19)","v":{"$error":"#VALUE!"}},{"$f":"AVERAGE(AE11,AE19)","v":{"$error":"#VALUE!"}},null,null,{"$f":"AVERAGE(AH11,AH19)","v":{"$error":"#VALUE!"}},{"$f":"AVERAGE(AI11,AI19)","v":{"$error":"#VALUE!"}},{"$f":"AVERAGE(AJ11,AJ19)","v":{"$error":"#VALUE!"}}]
[null,"Class Gaming",{"$nulls":6},{"$f":"GEOMEAN(I3:I54)","v":{"$error":"#NUM!"}},null,null,{"$f":"GEOMEAN(L3:L54)","v":{"$error":"#NUM!"}},{"$nulls":6},{"$f":"GEOMEAN(S3:S54)","v":{"$error":"#NUM!"}},null,null,{"$f":"GEOMEAN(V3:V54)","v":{"$error":"#NUM!"}},{"$f":"GEOMEAN(W3:W54)","v":{"$error":"#DIV/0!"}},{"$f":"GEOMEAN(X3:X54)","v":{"$error":"#DIV/0!"}},null,{"$f":"AVERAGE(Z3:Z54)","v":{"$error":"#VALUE!"}},{"$error":"#VALUE!"},{"$error":"#VALUE!"},{"$error":"#VALUE!"},{"$error":"#VALUE!"},{"$error":"#VALUE!"},null,null,{"$f":"AVERAGE(AH3:AH54)","v":{"$error":"#VALUE!"}},{"$f":"AVERAGE(AI3:AI54)","v":{"$error":"#VALUE!"}},{"$f":"AVERAGE(AJ3:AJ54)","v":{"$error":"#VALUE!"}}]
[null,"All"]

{"sheet":"LDB-10","index":4,"n_rows":61,"n_cols":36,"rows_kept":61,"merged":[[0,3,0,11],[0,13,0,21],[0,25,0,27],[0,28,0,30],[0,33,0,35]]}
[{"$nulls":3},{"$f":"Summary!M3","v":"HM-16.22 Main10"},{"$nulls":9},{"$f":"Summary!M4","v":"test"},{"$nulls":11},"BD-rate (piecewise cubic)",null,null,"BD-rate (cubic)",null,null,"Reference","Tested","BD-rate"]
["sequence type","sequence","QPISlice","kbps","Y psnr","U psnr","V psnr","Enc T [s]","Dec T [s]","VMAF","MS SSIM","Enc T [h]",null,"kbps","Y psnr","U psnr","V psnr","Enc T [s]","Dec T [s]","VMAF","MS SSIM","Enc T [h]","Enc","Dec",null,"Y","U","V","Y","U","V","Average PSNR","Average PSNR","YUV PSNR","VMAF","MS-SSIM"]
["Class Gaming","AOV5_1920x1080_60Hz_8bit_420",22,{"v":14094.4096,"d":"14094.41"},{"v":42.0387,"d":"42.04"},{"v":43.7247,"d":"43.72"},{"v":44.4115,"d":"44.41"},26439.64,52.65,{"v":98.5352,"d":"98.54"},{"v":0.993963,"d":"0.99"},{"$f":"H3/3600","v":{"v":7.344344444444444,"d":"7.34"}},{"$nulls":9},{"$f":"R3/3600","v":{"v":0,"d":"0.00"}},{"$f":"R3/H3","v":{"v":0,"d":"0.00"}},{"$f":"S3/I3","v":{"v":0,"d":"0.00"}},null,{"$f":"bdrate($D3:$D6,E3:E6,$N3:$N6,O3:O6)","v":{"$error":"#VALUE!"}},{"$f":"bdrate($D3:$D6,F3:F6,$N3:$N6,P3:P6)","v":{"$error":"#VALUE!"}},{"$f":"bdrate($D3:$D6,G3:G6,$N3:$N6,Q3:Q6)","v":{"$error":"#VALUE!"}},{"$f":"bdrateOld($D3:$D6,E3:E6,$N3:$N6,O3:O6)","v":{"$error":"#VALUE!"}},{"$f":"bdrateOld($D3:$D6,F3:F6,$N3:$N6,P3:P6)","v":{"$error":"#VALUE!"}},{"$f":"bdrateOld($D3:$D6,G3:G6,$N3:$N6,Q3:Q6)","v":{"$error":"#VALUE!"}},{"$f":"(6*E3+F3+G3)/8","v":{"v":42.546049999999994,"d":"42.55"}},{"$f":"(6*O3+P3+Q3)/8","v":{"v":0,"d":"0.00"}},{"$f":"bdrate($D3:$D6,AF3:AF6,$N3:$N6,AG3:AG6)","v":{"$error":"#VALUE!"}},{"$f":"bdrate($D3:$D6,J3:J6,$N3:$N6,T3:T6)","v":{"$error":"#VALUE!"}},{"$f":"bdrate($D3:$D6,K3:K6,$N3:$N6,U3:U6)","v":{"$error":"#VALUE!"}}]
["HD Tencent",null,27,{"v":5554.6,"d":"5554.60"},{"v":38.4021,"d":"38.40"},{"v":40.7693,"d":"40.77"},{"v":41.2281,"d":"41.23"},22171.27,36.34,{"v":92.7016,"d":"92.70"},{"v":0.985721,"d":"0.99"},{"v":6.158686111111111,"d":"6.16"},{"$nulls":9},{"v":0,"d":"0.00"},{"v":0,"d":"0.00"},{"v":0,"d":"0.00"},{"$nulls":7},{"$f":"(6*E4+F4+G4)/8","v":{"v":39.051249999999996,"d":"39.05"}},{"$f":"(6*O4+P4+Q4)/8","v":{"v":0,"d":"0.00"}}]
[null,null,32,{"v":2521.4528,"d":"2521.45"},{"v":35.341,"d":"35.34"},{"v":38.7072,"d":"38.71"},{"v":39.0085,"d":"39.01"},19154.43,{"v":30.3,"d":"30.30"},{"v":81.9106,"d":"81.91"},{"v":0.970232,"d":"0.97"},{"v":5.3206750000000005,"d":"5.32"},{"$nulls":9},{"v":0,"d":"0.00"},{"v":0,"d":"0.00"},{"v":0,"d":"0.00"},{"$nulls":7},{"v":36.2202125,"d":"36.22"},{"v":0,"d":"0.00"}]
[null,null,37,{"v":1254.4936,"d":"1254.49"},{"v":32.5997,"d":"32.60"},{"v":36.9808,"d":"36.98"},{"v":37.1178,"d":"37.12"},17833.77,27.34,{"v":66.7969,"d":"66.80"},{"v":0.942732,"d":"0.94"},{"v":4.953825,"d":"4.95"},{"$nulls":9},{"v":0,"d":"0.00"},{"v":0,"d":"0.00"},{"v":0,"d":"0.00"},{"$nulls":7},{"v":33.7121,"d":"33.71"},{"v":0,"d":"0.00"}]
["HD Tencent","baolei_1920x1080_60Hz_8bit_420_01",22,{"v":24718.2208,"d":"24718.22"},{"v":41.3488,"d":"41.35"},{"v":42.3997,"d":"42.40"},{"v":44.2436,"d":"44.24"},32947.78,60.22,{"v":99.4595,"d":"99.46"},{"v":0.994753,"d":"0.99"},{"v":9.152161111111111,"d":"9.15"},{"$nulls":9},{"v":0,"d":"0.00"},{"v":0,"d":"0.00"},{"v":0,"d":"0.00"},null,{"$f":"bdrate($D7:$D10,E7:E10,$N7:$N10,O7:O10)","v":{"$error":"#VALUE!"}},{"$f":"bdrate($D7:$D10,F7:F10,$N7:$N10,P7:P10)","v":{"$error":"#VALUE!"}},{"$f":"bdrate($D7:$D10,G7:G10,$N7:$N10,Q7:Q10)","v":{"$error":"#VALUE!"}},{"$f":"bdrateOld($D7:$D10,E7:E10,$N7:$N10,O7:O10)","v":{"$error":"#VALUE!"}},{"$f":"bdrateOld($D7:$D10,F7:F10,$N7:$N10,P7:P10)","v":{"$error":"#VALUE!"}},{"$f":"bdrateOld($D7:$D10,G7:G10,$N7:$N10,Q7:Q10)","v":{"$error":"#VALUE!"}},{"v":41.8420125,"d":"41.84"},{"v":0,"d":"0.00"},{"$f":"bdrate($D7:$D10,AF7:AF10,$N7:$N10,AG7:AG10)","v":{"$error":"#VALUE!"}},{"$f":"bdrate($D7:$D10,J7:J10,$N7:$N10,T7:T10)","v":{"$error":"#VALUE!"}},{"$error":"#VALUE!"}]
[null,null,27,{"v":10390.0488,"d":"10390.05"},{"v":37.4601,"d":"37.46"},{"v":39.4249,"d":"39.42"},{"v":41.4453,"d":"41.45"},26441.54,44.55,{"v":95.5031,"d":"95.50"},{"v":0.986509,"d":"0.99"},{"v":7.3448722222222225,"d":"7.34"},{"$nulls":9},{"v":0,"d":"0.00"},{"v":0,"d":"0.00"},{"v":0,"d":"0.00"},{"$nulls":7},{"v":38.20385,"d":"38.20"},{"v":0,"d":"0.00"}]
[null,null,32,{"v":4786.5768,"d":"4786.58"},{"v":34.1497,"d":"34.15"},{"v":37.5154,"d":"37.52"},{"v":39.4811,"d":"39.48"},22736.82,{"v":36.4,"d":"36.40"},{"v":84.6836,"d":"84.68"},{"v":0.970201,"d":"0.97"},{"v":6.315783333333333,"d":"6.32"},{"$nulls":9},{"v":0,"d":"0.00"},{"v":0,"d":"0.00"},{"v":0,"d":"0.00"},{"$nulls":7},{"v":35.23683750000001,"d":"35.24"},{"v":0,"d":"0.00"}]
[null,null,37,{"v":2333.912,"d":"2333.91"},{"v":31.2479,"d":"31.25"},{"v":35.9491,"d":"35.95"},{"v":37.8457,"d":"37.85"},20185.58,32.92,{"v":69.1545,"d":"69.15"},{"v":0.942291,"d":"0.94"},{"v":5.607105555555556,"d":"5.61"},{"$nulls":9},{"v":0,"d":"0.00"},{"v":0,"d":"0.00"},{"v":0,"d":"0.00"},{"$nulls":7},{"v":32.660275000000006,"d":"32.66"},{"v":0,"d":"0.00"}]
["UHD Tencent","baolei_4096x2160_60Hz_8bit_420_01",22,{"v":43219.468,"d":"43219.47"},{"v":46.1975,"d":"46.20"},{"v":44.8072,"d":"44.81"},{"v":45.4598,"d":"45.46"},132042.14,198.39,{"v":99.5795,"d":"99.58"},{"v":0.996167,"d":"1.00"},{"v":36.67837222222223,"d":"36.68"},{"$nulls":9},{"v":0,"d":"0.00"},{"v":0,"d":"0.00"},{"v":0,"d":"0.00"},null,{"$f":"bdrate($D11:$D14,E11:E14,$N11:$N14,O11:O14)","v":{"$error":"#VALUE!"}},{"$f":"bdrate($D11:$D14,F11:F14,$N11:$N14,P11:P14)","v":{"$error":"#VALUE!"}},{"$f":"bdrate($D11:$D14,G11:G14,$N11:$N14,Q11:Q14)","v":{"$error":"#VALUE!"}},{"$f":"bdrateOld($D11:$D14,E11:E14,$N11:$N14,O11:O14)","v":{"$error":"#VALUE!"}},{"$f":"bdrateOld($D11:$D14,F11:F14,$N11:$N14,P11:P14)","v":{"$error":"#VALUE!"}},{"$f":"bdrateOld($D11:$D14,G11:G14,$N11:$N14,Q11:Q14)","v":{"$error":"#VALUE!"}},{"v":45.9315,"d":"45.93"},{"v":0,"d":"0.00"},{"$f":"bdrate($D11:$D14,AF11:AF14,$N11:$N14,AG11:AG14)","v":{"$error":"#VALUE!"}},{"$f":"bdrate($D11:$D14,J11:J14,$N11:$N14,T11:T14)","v":{"$error":"#VALUE!"}},{"$error":"#VALUE!"}]
[null,null,27,{"v":20274.7736,"d":"20274.77"},{"v":42.4978,"d":"42.50"},{"v":41.5829,"d":"41.58"},{"v":42.306,"d":"42.31"},{"v":116609.1,"d":"116609.10"},184.67,{"v":97.919,"d":"97.92"},{"v":0.991145,"d":"0.99"},{"v":32.39141666666667,"d":"32.39"},{"$nulls":9},{"v":0,"d":"0.00"},{"v":0,"d":"0.00"},{"v":0,"d":"0.00"},{"$nulls":7},{"v":42.3594625,"d":"42.36"},{"v":0,"d":"0.00"}]
[null,null,32,{"v":11042.0048,"d":"11042.00"},{"v":39.125,"d":"39.13"},{"v":39.4974,"d":"39.50"},{"v":40.2242,"d":"40.22"},103641.31,137.17,{"v":93.1935,"d":"93.19"},{"v":0.9818,"d":"0.98"},{"v":28.789252777777776,"d":"28.79"},{"$nulls":9},{"v":0,"d":"0.00"},{"v":0,"d":"0.00"},{"v":0,"d":"0.00"},{"$nulls":7},{"v":39.308949999999996,"d":"39.31"},{"v":0,"d":"0.00"}]
[null,null,37,{"v":6399.0784,"d":"6399.08"},{"v":36.0576,"d":"36.06"},{"v":37.7523,"d":"37.75"},{"v":38.4788,"d":"38.48"},94816.27,126.45,{"v":84.6309,"d":"84.63"},{"v":0.965671,"d":"0.97"},{"v":26.33785277777778,"d":"26.34"},{"$nulls":9},{"v":0,"d":"0.00"},{"v":0,"d":"0.00"},{"v":0,"d":"0.00"},{"$nulls":7},{"v":36.572087499999995,"d":"36.57"},{"v":0,"d":"0.00"}]
["HD Tencent","baolei_1920x1080_60Hz_8bit_420_02",22,{"v":16250.4776,"d":"16250.48"},{"v":43.2756,"d":"43.28"},{"v":44.4226,"d":"44.42"},{"v":44.4006,"d":"44.40"},{"v":31290.8,"d":"31290.80"},51.18,{"v":98.9167,"d":"98.92"},{"v":0.995878,"d":"1.00"},{"v":8.691888888888888,"d":"8.69"},{"$nulls":9},{"v":0,"d":"0.00"},{"v":0,"d":"0.00"},{"v":0,"d":"0.00"},null,{"$f":"bdrate($D15:$D18,E15:E18,$N15:$N18,O15:O18)","v":{"$error":"#VALUE!"}},{"$f":"bdrate($D15:$D18,F15:F18,$N15:$N18,P15:P18)","v":{"$error":"#VALUE!"}},{"$f":"bdrate($D15:$D18,G15:G18,$N15:$N18,Q15:Q18)","v":{"$error":"#VALUE!"}},{"$f":"bdrateOld($D15:$D18,E15:E18,$N15:$N18,O15:O18)","v":{"$error":"#VALUE!"}},{"$f":"bdrateOld($D15:$D18,F15:F18,$N15:$N18,P15:P18)","v":{"$error":"#VALUE!"}},{"$f":"bdrateOld($D15:$D18,G15:G18,$N15:$N18,Q15:Q18)","v":{"$error":"#VALUE!"}},{"v":43.559599999999996,"d":"43.56"},{"v":0,"d":"0.00"},{"$f":"bdrate($D15:$D18,AF15:AF18,$N15:$N18,AG15:AG18)","v":{"$error":"#VALUE!"}},{"$f":"bdrate($D15:$D18,J15:J18,$N15:$N18,T15:T18)","v":{"$error":"#VALUE!"}},{"$error":"#VALUE!"}]
[null,null,27,{"v":7018.4784,"d":"7018.48"},39.42,{"v":41.1611,"d":"41.16"},{"v":41.1912,"d":"41.19"},{"v":25964.4,"d":"25964.40"},44.08,{"v":97.149,"d":"97.15"},{"v":0.990032,"d":"0.99"},{"v":7.2123333333333335,"d":"7.21"},{"$nulls":9},{"v":0,"d":"0.00"},{"v":0,"d":"0.00"},{"v":0,"d":"0.00"},{"$nulls":7},{"v":39.8590375,"d":"39.86"},{"v":0,"d":"0.00"}]
[null,null,32,{"v":3436.9048,"d":"3436.90"},{"v":36.0086,"d":"36.01"},{"v":38.9562,"d":"38.96"},{"v":39.0445,"d":"39.04"},22699.53,39.01,{"v":89.6544,"d":"89.65"},{"v":0.978588,"d":"0.98"},{"v":6.305425,"d":"6.31"},{"$nulls":9},{"v":0,"d":"0.00"},{"v":0,"d":"0.00"},{"v":0,"d":"0.00"},{"$nulls":7},{"v":36.7565375,"d":"36.76"},{"v":0,"d":"0.00"}]
[null,null,37,{"v":1814.6096,"d":"1814.61"},{"v":32.8782,"d":"32.88"},{"v":37.145,"d":"37.15"},{"v":37.3317,"d":"37.33"},20810.11,34.36,{"v":76.1612,"d":"76.16"},{"v":0.95845,"d":"0.96"},{"v":5.780586111111111,"d":"5.78"},{"$nulls":9},{"v":0,"d":"0.00"},{"v":0,"d":"0.00"},{"v":0,"d":"0.00"},{"$nulls":7},{"v":33.9682375,"d":"33.97"},{"v":0,"d":"0.00"}]
["UHD Tencent","baolei_4096x2160_60Hz_8bit_420_02",22,{"v":45957.0936,"d":"45957.09"},{"v":45.8181,"d":"45.82"},{"v":44.9,"d":"44.90"},{"v":46.9393,"d":"46.94"},{"v":138692.6,"d":"138692.60"},206.14,{"v":99.9889,"d":"99.99"},{"v":0.99615,"d":"1.00"},{"v":38.52572222222222,"d":"38.53"},{"$nulls":9},{"v":0,"d":"0.00"},{"v":0,"d":"0.00"},{"v":0,"d":"0.00"},null,{"$f":"bdrate($D19:$D22,E19:E22,$N19:$N22,O19:O22)","v":{"$error":"#VALUE!"}},{"$f":"bdrate($D19:$D22,F19:F22,$N19:$N22,P19:P22)","v":{"$error":"#VALUE!"}},{"$f":"bdrate($D19:$D22,G19:G22,$N19:$N22,Q19:Q22)","v":{"$error":"#VALUE!"}},{"$f":"bdrateOld($D19:$D22,E19:E22,$N19:$N22,O19:O22)","v":{"$error":"#VALUE!"}},{"$f":"bdrateOld($D19:$D22,F19:F22,$N19:$N22,P19:P22)","v":{"$error":"#VALUE!"}},{"$f":"bdrateOld($D19:$D22,G19:G22,$N19:$N22,Q19:Q22)","v":{"$error":"#VALUE!"}},{"v":45.843487499999995,"d":"45.84"},{"v":0,"d":"0.00"},{"$f":"bdrate($D19:$D22,AF19:AF22,$N19:$N22,AG19:AG22)","v":{"$error":"#VALUE!"}},{"$f":"bdrate($D19:$D22,J19:J22,$N19:$N22,T19:T22)","v":{"$error":"#VALUE!"}},{"$error":"#VALUE!"}]
[null,null,27,{"v":20903.8176,"d":"20903.82"},{"v":41.8784,"d":"41.88"},{"v":41.5759,"d":"41.58"},{"v":44.1146,"d":"44.11"},119039.14,{"v":176.2,"d":"176.20"},{"v":98.5031,"d":"98.50"},{"v":0.990296,"d":"0.99"},{"v":33.066427777777776,"d":"33.07"},{"$nulls":9},{"v":0,"d":"0.00"},{"v":0,"d":"0.00"},{"v":0,"d":"0.00"},{"$nulls":7},{"v":42.1201125,"d":"42.12"},{"v":0,"d":"0.00"}]
[null,null,32,{"v":10970.4672,"d":"10970.47"},{"v":38.4565,"d":"38.46"},{"v":39.5306,"d":"39.53"},{"v":42.293,"d":"42.29"},102100.55,150.06,{"v":92.9217,"d":"92.92"},{"v":0.97908,"d":"0.98"},{"v":28.36126388888889,"d":"28.36"},{"$nulls":9},{"v":0,"d":"0.00"},{"v":0,"d":"0.00"},{"v":0,"d":"0.00"},{"$nulls":7},{"v":39.070325,"d":"39.07"},{"v":0,"d":"0.00"}]
[null,null,37,{"v":6179.2408,"d":"6179.24"},{"v":35.4366,"d":"35.44"},{"v":37.7889,"d":"37.79"},{"v":40.7414,"d":"40.74"},90775.56,136.86,{"v":84.5934,"d":"84.59"},{"v":0.960485,"d":"0.96"},{"v":25.215433333333333,"d":"25.22"},{"$nulls":9},{"v":0,"d":"0.00"},{"v":0,"d":"0.00"},{"v":0,"d":"0.00"},{"$nulls":7},{"v":36.3937375,"d":"36.39"},{"v":0,"d":"0.00"}]
["HD Tencent","jianling_1920x1080_60Hz_8bit_420_02",22,{"v":76393.3648,"d":"76393.36"},{"v":39.0305,"d":"39.03"},{"v":40.7365,"d":"40.74"},{"v":42.3377,"d":"42.34"},46484.95,88.38,{"v":99.9265,"d":"99.93"},{"v":0.994891,"d":"0.99"},{"v":12.91248611111111,"d":"12.91"},{"$nulls":9},{"v":0,"d":"0.00"},{"v":0,"d":"0.00"},{"v":0,"d":"0.00"},null,{"$f":"bdrate($D23:$D26,E23:E26,$N23:$N26,O23:O26)","v":{"$error":"#VALUE!"}},{"$f":"bdrate($D23:$D26,F23:F26,$N23:$N26,P23:P26)","v":{"$error":"#VALUE!"}},{"$f":"bdrate($D23:$D26,G23:G26,$N23:$N26,Q23:Q26)","v":{"$error":"#VALUE!"}},{"$f":"bdrateOld($D23:$D26,E23:E26,$N23:$N26,O23:O26)","v":{"$error":"#VALUE!"}},{"$f":"bdrateOld($D23:$D26,F23:F26,$N23:$N26,P23:P26)","v":{"$error":"#VALUE!"}},{"$f":"bdrateOld($D23:$D26,G23:G26,$N23:$N26,Q23:Q26)","v":{"$error":"#VALUE!"}},{"v":39.65715,"d":"39.66"},{"v":0,"d":"0.00"},{"$f":"bdrate($D23:$D26,AF23:AF26,$N23:$N26,AG23:AG26)","v":{"$error":"#VALUE!"}},{"$f":"bdrate($D23:$D26,J23:J26,$N23:$N26,T23:T26)","v":{"$error":"#VALUE!"}},{"$f":"bdrate($D23:$D26,K23:K26,$N23:$N26,U23:U26)","v":{"$error":"#VALUE!"}}]
[null,null,27,{"v":33676.644,"d":"33676.64"},{"v":34.0955,"d":"34.10"},{"v":37.7829,"d":"37.78"},{"v":39.7781,"d":"39.78"},36649.35,66.52,{"v":98.0216,"d":"98.02"},{"v":0.983567,"d":"0.98"},{"v":10.180375,"d":"10.18"},{"$nulls":9},{"v":0,"d":"0.00"},{"v":0,"d":"0.00"},{"v":0,"d":"0.00"},{"$nulls":7},{"v":35.26675,"d":"35.27"},{"v":0,"d":"0.00"}]
[null,null,32,{"v":13747.0264,"d":"13747.03"},{"v":30.2487,"d":"30.25"},{"v":36.1104,"d":"36.11"},{"v":38.1826,"d":"38.18"},{"v":28525.7,"d":"28525.70"},52.69,{"v":87.3729,"d":"87.37"},{"v":0.957549,"d":"0.96"},{"v":7.923805555555556,"d":"7.92"},{"$nulls":9},{"v":0,"d":"0.00"},{"v":0,"d":"0.00"},{"v":0,"d":"0.00"},{"$nulls":7},{"v":31.97315,"d":"31.97"},{"v":0,"d":"0.00"}]
[null,null,37,{"v":4930.9176,"d":"4930.92"},{"v":27.4153,"d":"27.42"},{"v":34.7844,"d":"34.78"},{"v":36.7524,"d":"36.75"},23511.75,40.29,{"v":69.4782,"d":"69.48"},{"v":0.91218,"d":"0.91"},{"v":6.531041666666667,"d":"6.53"},{"$nulls":9},{"v":0,"d":"0.00"},{"v":0,"d":"0.00"},{"v":0,"d":"0.00"},{"$nulls":7},{"v":29.503574999999998,"d":"29.50"},{"v":0,"d":"0.00"}]
["HD Tencent","jianling_1920x1080_60Hz_8bit_420_04",22,{"v":12652.656,"d":"12652.66"},{"v":43.6281,"d":"43.63"},{"v":48.6422,"d":"48.64"},{"v":48.2457,"d":"48.25"},25792.67,45.22,{"v":97.5945,"d":"97.59"},{"v":0.993659,"d":"0.99"},{"v":7.164630555555555,"d":"7.16"},{"$nulls":9},{"$f":"R27/3600","v":{"v":0,"d":"0.00"}},{"v":0,"d":"0.00"},{"v":0,"d":"0.00"},null,{"$f":"bdrate($D27:$D30,E27:E30,$N27:$N30,O27:O30)","v":{"$error":"#VALUE!"}},{"$f":"bdrate($D27:$D30,F27:F30,$N27:$N30,P27:P30)","v":{"$error":"#VALUE!"}},{"$f":"bdrate($D27:$D30,G27:G30,$N27:$N30,Q27:Q30)","v":{"$error":"#VALUE!"}},{"$f":"bdrateOld($D27:$D30,E27:E30,$N27:$N30,O27:O30)","v":{"$error":"#VALUE!"}},{"$f":"bdrateOld($D27:$D30,F27:F30,$N27:$N30,P27:P30)","v":{"$error":"#VALUE!"}},{"$f":"bdrateOld($D27:$D30,G27:G30,$N27:$N30,Q27:Q30)","v":{"$error":"#VALUE!"}},{"v":44.8320625,"d":"44.83"},{"v":0,"d":"0.00"},{"$f":"bdrate($D27:$D30,AF27:AF30,$N27:$N30,AG27:AG30)","v":{"$error":"#VALUE!"}},{"$f":"bdrate($D27:$D30,J27:J30,$N27:$N30,T27:T30)","v":{"$error":"#VALUE!"}},{"$error":"#VALUE!"}]
[null,null,27,{"v":5574.0576,"d":"5574.06"},{"v":39.9189,"d":"39.92"},45.86,{"v":45.3216,"d":"45.32"},{"v":21447.8,"d":"21447.80"},37.81,{"v":93.3222,"d":"93.32"},{"v":0.987362,"d":"0.99"},{"v":5.957722222222222,"d":"5.96"},{"$nulls":9},{"v":0,"d":"0.00"},{"v":0,"d":"0.00"},{"v":0,"d":"0.00"},{"$nulls":7},{"v":41.336875,"d":"41.34"},{"v":0,"d":"0.00"}]
[null,null,32,{"v":2444.7984,"d":"2444.80"},{"v":36.4823,"d":"36.48"},{"v":43.614,"d":"43.61"},{"v":43.1039,"d":"43.10"},18593.65,33.08,{"v":84.9527,"d":"84.95"},{"v":0.977902,"d":"0.98"},{"v":5.164902777777778,"d":"5.16"},{"$nulls":9},{"v":0,"d":"0.00"},{"v":0,"d":"0.00"},{"v":0,"d":"0.00"},{"$nulls":7},{"v":38.2014625,"d":"38.20"},{"v":0,"d":"0.00"}]
[null,null,37,{"v":1073.388,"d":"1073.39"},{"v":33.3631,"d":"33.36"},{"v":41.434,"d":"41.43"},{"v":40.9491,"d":"40.95"},17618.91,30.13,{"v":72.5816,"d":"72.58"},{"v":0.963799,"d":"0.96"},{"v":4.894141666666667,"d":"4.89"},{"$nulls":9},{"v":0,"d":"0.00"},{"v":0,"d":"0.00"},{"v":0,"d":"0.00"},{"$nulls":7},{"v":35.320212500000004,"d":"35.32"},{"v":0,"d":"0.00"}]
["Class Gaming","HeroesOfTheStorm_1920x1080_30Hz_8bit_P420_Part1",22,{"v":4700.2176,"d":"4700.22"},{"v":42.6772,"d":"42.68"},{"v":43.9869,"d":"43.99"},{"v":44.0543,"d":"44.05"},9916.56,18.82,{"v":95.6468,"d":"95.65"},{"v":0.993911,"d":"0.99"},{"$f":"H31/3600","v":{"v":2.7546,"d":"2.75"}},{"$nulls":9},{"$f":"R31/3600","v":{"v":0,"d":"0.00"}},{"$f":"R31/H31","v":{"v":0,"d":"0.00"}},{"$f":"S31/I31","v":{"v":0,"d":"0.00"}},null,{"$f":"bdrate($D31:$D34,E31:E34,$N31:$N34,O31:O34)","v":{"$error":"#VALUE!"}},{"$f":"bdrate($D31:$D34,F31:F34,$N31:$N34,P31:P34)","v":{"$error":"#VALUE!"}},{"$f":"bdrate($D31:$D34,G31:G34,$N31:$N34,Q31:Q34)","v":{"$error":"#VALUE!"}},{"$f":"bdrateOld($D31:$D34,E31:E34,$N31:$N34,O31:O34)","v":{"$error":"#VALUE!"}},{"$f":"bdrateOld($D31:$D34,F31:F34,$N31:$N34,P31:P34)","v":{"$error":"#VALUE!"}},{"$f":"bdrateOld($D31:$D34,G31:G34,$N31:$N34,Q31:Q34)","v":{"$error":"#VALUE!"}},{"v":43.01305,"d":"43.01"},{"v":0,"d":"0.00"},{"$f":"bdrate($D31:$D34,AF31:AF34,$N31:$N34,AG31:AG34)","v":{"$error":"#VALUE!"}},{"$f":"bdrate($D31:$D34,J31:J34,$N31:$N34,T31:T34)","v":{"$error":"#VALUE!"}},{"$error":"#VALUE!"}]
["HD",null,27,{"v":2183.2408,"d":"2183.24"},{"v":39.0078,"d":"39.01"},{"v":41.144,"d":"41.14"},{"v":41.2498,"d":"41.25"},{"v":8838.4,"d":"8838.40"},16.85,{"v":91.3545,"d":"91.35"},{"v":0.985781,"d":"0.99"},{"v":2.455111111111111,"d":"2.46"},{"$nulls":9},{"v":0,"d":"0.00"},{"$f":"R32/H32","v":{"v":0,"d":"0.00"}},{"v":0,"d":"0.00"},{"$nulls":7},{"v":39.555075,"d":"39.56"},{"v":0,"d":"0.00"}]
["Kingston",null,32,{"v":1011.5376,"d":"1011.54"},{"v":35.7187,"d":"35.72"},{"v":39.2116,"d":"39.21"},{"v":39.2976,"d":"39.30"},8473.09,{"v":12.6,"d":"12.60"},{"v":82.4032,"d":"82.40"},{"v":0.97113,"d":"0.97"},{"v":2.3536361111111113,"d":"2.35"},{"$nulls":9},{"v":0,"d":"0.00"},{"v":0,"d":"0.00"},{"v":0,"d":"0.00"},{"$nulls":7},{"v":36.602675,"d":"36.60"},{"v":0,"d":"0.00"}]
["University",null,37,{"v":467.8472,"d":"467.85"},{"v":32.8085,"d":"32.81"},{"v":37.4853,"d":"37.49"},{"v":37.5604,"d":"37.56"},7796.32,14.02,{"v":68.5439,"d":"68.54"},{"v":0.946275,"d":"0.95"},{"v":2.1656444444444443,"d":"2.17"},{"$nulls":9},{"v":0,"d":"0.00"},{"v":0,"d":"0.00"},{"v":0,"d":"0.00"},{"$nulls":7},{"v":33.9870875,"d":"33.99"},{"v":0,"d":"0.00"}]
[null,"ProjectCars_1920x1080_30Hz_8bit_P420_Part1",22,{"v":12497.2288,"d":"12497.23"},{"v":41.456,"d":"41.46"},{"v":48.4563,"d":"48.46"},{"v":48.5867,"d":"48.59"},{"v":17693.3,"d":"17693.30"},31.05,{"v":99.5452,"d":"99.55"},{"v":0.992849,"d":"0.99"},{"v":4.914805555555556,"d":"4.91"},{"$nulls":9},{"v":0,"d":"0.00"},{"v":0,"d":"0.00"},{"v":0,"d":"0.00"},null,{"$f":"bdrate($D35:$D38,E35:E38,$N35:$N38,O35:O38)","v":{"$error":"#VALUE!"}},{"$f":"bdrate($D35:$D38,F35:F38,$N35:$N38,P35:P38)","v":{"$error":"#VALUE!"}},{"$f":"bdrate($D35:$D38,G35:G38,$N35:$N38,Q35:Q38)","v":{"$error":"#VALUE!"}},{"$f":"bdrateOld($D35:$D38,E35:E38,$N35:$N38,O35:O38)","v":{"$error":"#VALUE!"}},{"$f":"bdrateOld($D35:$D38,F35:F38,$N35:$N38,P35:P38)","v":{"$error":"#VALUE!"}},{"$f":"bdrateOld($D35:$D38,G35:G38,$N35:$N38,Q35:Q38)","v":{"$error":"#VALUE!"}},{"v":43.22237500000001,"d":"43.22"},{"v":0,"d":"0.00"},{"$f":"bdrate($D35:$D38,AF35:AF38,$N35:$N38,AG35:AG38)","v":{"$error":"#VALUE!"}},{"$f":"bdrate($D35:$D38,J35:J38,$N35:$N38,T35:T38)","v":{"$error":"#VALUE!"}},{"$error":"#VALUE!"}]
[null,null,27,{"v":4591.0496,"d":"4591.05"},{"v":38.0949,"d":"38.09"},{"v":46.1558,"d":"46.16"},{"v":46.283,"d":"46.28"},14218.29,23.47,{"v":95.8199,"d":"95.82"},{"v":0.985051,"d":"0.99"},{"v":3.9495250000000004,"d":"3.95"},{"$nulls":9},{"v":0,"d":"0.00"},{"v":0,"d":"0.00"},{"v":0,"d":"0.00"},{"$nulls":7},{"v":40.126025000000006,"d":"40.13"},{"v":0,"d":"0.00"}]
[null,null,32,{"v":1908.3592,"d":"1908.36"},{"v":35.3212,"d":"35.32"},{"v":44.5573,"d":"44.56"},{"v":44.5994,"d":"44.60"},11620.16,19.27,{"v":86.5149,"d":"86.51"},{"v":0.974031,"d":"0.97"},{"v":3.227822222222222,"d":"3.23"},{"$nulls":9},{"v":0,"d":"0.00"},{"v":0,"d":"0.00"},{"v":0,"d":"0.00"},{"$nulls":7},{"v":37.635487499999996,"d":"37.64"},{"v":0,"d":"0.00"}]
[null,null,37,{"v":857.4104,"d":"857.41"},{"v":32.8727,"d":"32.87"},{"v":43.1523,"d":"43.15"},{"v":43.0187,"d":"43.02"},10011.25,17.38,{"v":74.1907,"d":"74.19"},{"v":0.957854,"d":"0.96"},{"v":2.780902777777778,"d":"2.78"},{"$nulls":9},{"v":0,"d":"0.00"},{"v":0,"d":"0.00"},{"v":0,"d":"0.00"},{"$nulls":7},{"v":35.4259,"d":"35.43"},{"v":0,"d":"0.00"}]
[null,"WoW_1920x1080_30Hz_8bit_P420_Part2",22,{"v":2288.9648,"d":"2288.96"},{"v":47.6493,"d":"47.65"},{"v":49.7283,"d":"49.73"},{"v":50.0331,"d":"50.03"},9924.92,15.75,{"v":97.427,"d":"97.43"},{"v":0.996478,"d":"1.00"},{"v":2.7569222222222223,"d":"2.76"},{"$nulls":9},{"v":0,"d":"0.00"},{"v":0,"d":"0.00"},{"v":0,"d":"0.00"},null,{"$f":"bdrate($D39:$D42,E39:E42,$N39:$N42,O39:O42)","v":{"$error":"#VALUE!"}},{"$f":"bdrate($D39:$D42,F39:F42,$N39:$N42,P39:P42)","v":{"$error":"#VALUE!"}},{"$f":"bdrate($D39:$D42,G39:G42,$N39:$N42,Q39:Q42)","v":{"$error":"#VALUE!"}},{"$f":"bdrateOld($D39:$D42,E39:E42,$N39:$N42,O39:O42)","v":{"$error":"#VALUE!"}},{"$f":"bdrateOld($D39:$D42,F39:F42,$N39:$N42,P39:P42)","v":{"$error":"#VALUE!"}},{"$f":"bdrateOld($D39:$D42,G39:G42,$N39:$N42,Q39:Q42)","v":{"$error":"#VALUE!"}},{"v":48.20715,"d":"48.21"},{"v":0,"d":"0.00"},{"$f":"bdrate($D39:$D42,AF39:AF42,$N39:$N42,AG39:AG42)","v":{"$error":"#VALUE!"}},{"$f":"bdrate($D39:$D42,J39:J42,$N39:$N42,T39:T42)","v":{"$error":"#VALUE!"}},{"$error":"#VALUE!"}]
[null,null,27,{"v":1061.4984,"d":"1061.50"},{"v":43.8374,"d":"43.84"},{"v":46.6861,"d":"46.69"},{"v":47.4575,"d":"47.46"},8775.87,14.46,{"v":93.3981,"d":"93.40"},{"v":0.991593,"d":"0.99"},{"v":2.4377416666666667,"d":"2.44"},{"$nulls":9},{"v":0,"d":"0.00"},{"v":0,"d":"0.00"},{"v":0,"d":"0.00"},{"$nulls":7},{"v":44.646,"d":"44.65"},{"v":0,"d":"0.00"}]
[null,null,32,{"v":516.1608,"d":"516.16"},{"v":40.2706,"d":"40.27"},{"v":44.2454,"d":"44.25"},{"v":45.4824,"d":"45.48"},{"v":7729.6,"d":"7729.60"},13.19,{"v":85.0554,"d":"85.06"},{"v":0.982248,"d":"0.98"},{"v":2.147111111111111,"d":"2.15"},{"$nulls":9},{"v":0,"d":"0.00"},{"v":0,"d":"0.00"},{"v":0,"d":"0.00"},{"$nulls":7},{"v":41.418925,"d":"41.42"},{"v":0,"d":"0.00"}]
[null,null,37,{"v":261.3168,"d":"261.32"},{"v":36.9292,"d":"36.93"},{"v":41.7051,"d":"41.71"},{"v":43.7411,"d":"43.74"},7435.55,13.25,{"v":73.0014,"d":"73.00"},{"v":0.966688,"d":"0.97"},{"v":2.0654305555555554,"d":"2.07"},{"$nulls":9},{"v":0,"d":"0.00"},{"v":0,"d":"0.00"},{"v":0,"d":"0.00"},{"$nulls":7},{"v":38.377675,"d":"38.38"},{"v":0,"d":"0.00"}]
["Class Gaming","MINECRAFT_1920x1080_60Hz_8bit_P420",22,{"v":51161.8216,"d":"51161.82"},{"v":41.7421,"d":"41.74"},{"v":43.6331,"d":"43.63"},{"v":44.5677,"d":"44.57"},42359.32,78.52,{"v":99.8124,"d":"99.81"},{"v":0.995062,"d":"1.00"},{"v":11.766477777777778,"d":"11.77"},{"$nulls":9},{"v":0,"d":"0.00"},{"v":0,"d":"0.00"},{"v":0,"d":"0.00"},null,{"$f":"bdrate($D43:$D46,E43:E46,$N43:$N46,O43:O46)","v":{"$error":"#VALUE!"}},{"$f":"bdrate($D43:$D46,F43:F46,$N43:$N46,P43:P46)","v":{"$error":"#VALUE!"}},{"$f":"bdrate($D43:$D46,G43:G46,$N43:$N46,Q43:Q46)","v":{"$error":"#VALUE!"}},{"$f":"bdrateOld($D43:$D46,E43:E46,$N43:$N46,O43:O46)","v":{"$error":"#VALUE!"}},{"$f":"bdrateOld($D43:$D46,F43:F46,$N43:$N46,P43:P46)","v":{"$error":"#VALUE!"}},{"$f":"bdrateOld($D43:$D46,G43:G46,$N43:$N46,Q43:Q46)","v":{"$error":"#VALUE!"}},{"v":42.331675000000004,"d":"42.33"},{"v":0,"d":"0.00"},{"$f":"bdrate($D43:$D46,AF43:AF46,$N43:$N46,AG43:AG46)","v":{"$error":"#VALUE!"}},{"$f":"bdrate($D43:$D46,J43:J46,$N43:$N46,T43:T46)","v":{"$error":"#VALUE!"}},{"$error":"#VALUE!"}]
["HD",null,27,{"v":20289.5184,"d":"20289.52"},{"v":36.2936,"d":"36.29"},{"v":40.7843,"d":"40.78"},{"v":42.0392,"d":"42.04"},32096.67,{"v":57.7,"d":"57.70"},{"v":97.4949,"d":"97.49"},{"v":0.983255,"d":"0.98"},{"v":8.915741666666666,"d":"8.92"},{"$nulls":9},{"v":0,"d":"0.00"},{"v":0,"d":"0.00"},{"v":0,"d":"0.00"},{"$nulls":7},{"v":37.573137499999994,"d":"37.57"},{"v":0,"d":"0.00"}]
["DERF_TWITCH",null,32,{"v":7835.6192,"d":"7835.62"},{"v":32.7484,"d":"32.75"},{"v":39.048,"d":"39.05"},{"v":40.4183,"d":"40.42"},26364.83,44.14,{"v":85.6707,"d":"85.67"},{"v":0.959434,"d":"0.96"},{"v":7.32356388888889,"d":"7.32"},{"$nulls":9},{"v":0,"d":"0.00"},{"v":0,"d":"0.00"},{"v":0,"d":"0.00"},{"$nulls":7},{"v":34.494587499999994,"d":"34.49"},{"v":0,"d":"0.00"}]
[null,null,37,3418.98,{"v":30.2352,"d":"30.24"},{"v":37.6851,"d":"37.69"},{"v":39.1493,"d":"39.15"},22651.55,37.93,{"v":67.7841,"d":"67.78"},{"v":0.920105,"d":"0.92"},{"v":6.292097222222222,"d":"6.29"},{"$nulls":9},{"v":0,"d":"0.00"},{"v":0,"d":"0.00"},{"v":0,"d":"0.00"},{"$nulls":7},{"v":32.2807,"d":"32.28"},{"v":0,"d":"0.00"}]
[null,"CSGO_1920x1080_60Hz_8bit_P420",22,{"v":14193.6184,"d":"14193.62"},{"v":45.6558,"d":"45.66"},{"v":51.4184,"d":"51.42"},{"v":53.3562,"d":"53.36"},25759.11,40.84,{"v":97.6039,"d":"97.60"},{"v":0.995323,"d":"1.00"},{"$f":"H47/3600","v":{"v":7.155308333333333,"d":"7.16"}},{"$nulls":9},{"$f":"R47/3600","v":{"v":0,"d":"0.00"}},{"v":0,"d":"0.00"},{"v":0,"d":"0.00"},null,{"$f":"bdrate($D47:$D50,E47:E50,$N47:$N50,O47:O50)","v":{"$error":"#VALUE!"}},{"$f":"bdrate($D47:$D50,F47:F50,$N47:$N50,P47:P50)","v":{"$error":"#VALUE!"}},{"$f":"bdrate($D47:$D50,G47:G50,$N47:$N50,Q47:Q50)","v":{"$error":"#VALUE!"}},{"$f":"bdrateOld($D47:$D50,E47:E50,$N47:$N50,O47:O50)","v":{"$error":"#VALUE!"}},{"$f":"bdrateOld($D47:$D50,F47:F50,$N47:$N50,P47:P50)","v":{"$error":"#VALUE!"}},{"$f":"bdrateOld($D47:$D50,G47:G50,$N47:$N50,Q47:Q50)","v":{"$error":"#VALUE!"}},{"v":47.338675,"d":"47.34"},{"v":0,"d":"0.00"},{"$f":"bdrate($D47:$D50,AF47:AF50,$N47:$N50,AG47:AG50)","v":{"$error":"#VALUE!"}},{"$f":"bdrate($D47:$D50,J47:J50,$N47:$N50,T47:T50)","v":{"$error":"#VALUE!"}},{"$error":"#VALUE!"}]
[null,null,27,{"v":5307.948,"d":"5307.95"},{"v":42.2483,"d":"42.25"},{"v":48.8098,"d":"48.81"},{"v":51.2079,"d":"51.21"},21820.32,37.17,{"v":94.2169,"d":"94.22"},{"v":0.988802,"d":"0.99"},{"$f":"H48/3600","v":{"v":6.0611999999999995,"d":"6.06"}},{"$nulls":9},{"v":0,"d":"0.00"},{"v":0,"d":"0.00"},{"v":0,"d":"0.00"},{"$nulls":7},{"v":44.1884375,"d":"44.19"},{"v":0,"d":"0.00"}]
[null,null,32,{"v":2259.6944,"d":"2259.69"},{"v":38.9486,"d":"38.95"},{"v":46.8565,"d":"46.86"},{"v":49.6689,"d":"49.67"},19176.51,29.65,{"v":85.5011,"d":"85.50"},{"v":0.97674,"d":"0.98"},{"$f":"H49/3600","v":{"v":5.326808333333333,"d":"5.33"}},{"$nulls":9},{"v":0,"d":"0.00"},{"v":0,"d":"0.00"},{"v":0,"d":"0.00"},{"$nulls":7},{"v":41.277125,"d":"41.28"},{"v":0,"d":"0.00"}]
[null,null,37,{"v":1057.8624,"d":"1057.86"},{"v":35.6292,"d":"35.63"},{"v":45.3982,"d":"45.40"},{"v":48.7359,"d":"48.74"},17639.48,25.53,{"v":72.6846,"d":"72.68"},{"v":0.956886,"d":"0.96"},{"$f":"H50/3600","v":{"v":4.899855555555556,"d":"4.90"}},{"$nulls":9},{"v":0,"d":"0.00"},{"v":0,"d":"0.00"},{"v":0,"d":"0.00"},{"$nulls":7},{"v":38.488662500000004,"d":"38.49"},{"v":0,"d":"0.00"}]
[null,"STARCRAFT_1920x1080_60Hz_8bit_P420",22,7576.08,{"v":43.0468,"d":"43.05"},{"v":47.3347,"d":"47.33"},{"v":47.9696,"d":"47.97"},19157.29,{"v":34.3,"d":"34.30"},{"v":96.855,"d":"96.86"},{"v":0.995544,"d":"1.00"},{"$f":"H51/3600","v":{"v":5.321469444444444,"d":"5.32"}},{"$nulls":9},{"v":0,"d":"0.00"},{"v":0,"d":"0.00"},{"v":0,"d":"0.00"},null,{"$f":"bdrate($D51:$D54,E51:E54,$N51:$N54,O51:O54)","v":{"$error":"#VALUE!"}},{"$f":"bdrate($D51:$D54,F51:F54,$N51:$N54,P51:P54)","v":{"$error":"#VALUE!"}},{"$f":"bdrate($D51:$D54,G51:G54,$N51:$N54,Q51:Q54)","v":{"$error":"#VALUE!"}},{"$f":"bdrateOld($D51:$D54,E51:E54,$N51:$N54,O51:O54)","v":{"$error":"#VALUE!"}},{"$f":"bdrateOld($D51:$D54,F51:F54,$N51:$N54,P51:P54)","v":{"$error":"#VALUE!"}},{"$f":"bdrateOld($D51:$D54,G51:G54,$N51:$N54,Q51:Q54)","v":{"$error":"#VALUE!"}},{"v":44.1981375,"d":"44.20"},{"v":0,"d":"0.00"},{"$f":"bdrate($D51:$D54,AF51:AF54,$N51:$N54,AG51:AG54)","v":{"$error":"#VALUE!"}},{"$f":"bdrate($D51:$D54,J51:J54,$N51:$N54,T51:T54)","v":{"$error":"#VALUE!"}},{"$error":"#VALUE!"}]
[null,null,27,{"v":3160.0744,"d":"3160.07"},{"v":39.2412,"d":"39.24"},{"v":43.9399,"d":"43.94"},{"v":44.5857,"d":"44.59"},16976.84,28.25,{"v":93.8167,"d":"93.82"},{"v":0.989942,"d":"0.99"},{"$f":"H52/3600","v":{"v":4.715788888888889,"d":"4.72"}},{"$nulls":9},{"v":0,"d":"0.00"},{"v":0,"d":"0.00"},{"v":0,"d":"0.00"},{"$nulls":7},{"v":40.4966,"d":"40.50"},{"v":0,"d":"0.00"}]
[null,null,32,{"v":1263.764,"d":"1263.76"},{"v":35.7126,"d":"35.71"},{"v":41.4614,"d":"41.46"},{"v":41.935,"d":"41.94"},{"v":16047.5,"d":"16047.50"},{"v":23.8,"d":"23.80"},{"v":86.4231,"d":"86.42"},{"v":0.978537,"d":"0.98"},{"v":4.457638888888889,"d":"4.46"},{"$nulls":9},{"v":0,"d":"0.00"},{"v":0,"d":"0.00"},{"v":0,"d":"0.00"},{"$nulls":7},{"v":37.209,"d":"37.21"},{"v":0,"d":"0.00"}]
[null,null,37,{"v":520.508,"d":"520.51"},{"v":32.5415,"d":"32.54"},{"v":39.5928,"d":"39.59"},{"v":39.788,"d":"39.79"},15242.12,23.81,{"v":73.9812,"d":"73.98"},{"v":0.957067,"d":"0.96"},{"v":4.233922222222223,"d":"4.23"},{"$nulls":9},{"v":0,"d":"0.00"},{"v":0,"d":"0.00"},{"v":0,"d":"0.00"},{"$nulls":7},{"v":34.328725,"d":"34.33"},{"v":0,"d":"0.00"}]
[null,"Class Gaming HD",{"$nulls":6},{"$f":"GEOMEAN(I3:I10,I15:I18,I23:I54)","v":{"v":31.509137121589504,"d":"31.51"}},{"$f":"GEOMEAN(J3:J10,J15:J18,J23:J54)","v":{"v":86.77918015551955,"d":"86.78"}},{"v":0.9752605516689696,"d":"0.98"},{"v":5.156622291894836,"d":"5.16"},{"$nulls":6},{"$f":"GEOMEAN(S3:S10,S15:S18,S23:S54)","v":{"$error":"#NUM!"}},{"$f":"GEOMEAN(T3:T10,T15:T18,T23:T54)","v":{"$error":"#NUM!"}},{"$f":"GEOMEAN(U3:U10,U15:U18,U23:U54)","v":{"$error":"#NUM!"}},{"$f":"GEOMEAN(V3:V10,V15:V18,V23:V54)","v":{"$error":"#NUM!"}},{"$f":"GEOMEAN(W3:W10,W15,W23:W54)","v":{"$error":"#NUM!"}},{"$error":"#NUM!"},null,{"$f":"AVERAGE(Z3:Z10,Z15:Z18,Z23:Z54)","v":{"$error":"#VALUE!"}},{"$f":"AVERAGE(AA3:AA10,AA15:AA18,AA23:AA54)","v":{"$error":"#VALUE!"}},{"$error":"#VALUE!"},{"$error":"#VALUE!"},{"$error":"#VALUE!"},{"$error":"#VALUE!"},null,null,{"$f":"AVERAGE(AH3:AH10,AH15:AH18,AH23:AH54)","v":{"$error":"#VALUE!"}},{"$f":"AVERAGE(AI3:AI10,AI15:AI18,AI23:AI54)","v":{"$error":"#VALUE!"}},{"$f":"AVERAGE(AJ3:AJ10,AJ15:AJ18,AJ23:AJ54)","v":{"$error":"#VALUE!"}}]
[null,"Class Gaming UHD",{"$nulls":6},{"$f":"GEOMEAN(I11:I14,I19:I22)","v":{"v":161.9852494641536,"d":"161.99"}},{"$f":"GEOMEAN(J11:J14,J19:J22)","v":{"v":93.72400771959684,"d":"93.72"}},{"v":0.9825168598817664,"d":"0.98"},{"v":30.851238636554065,"d":"30.85"},{"$nulls":6},{"$f":"GEOMEAN(S11:S14,S19:S22)","v":{"$error":"#NUM!"}},{"$f":"GEOMEAN(T11:T14,T19:T22)","v":{"$error":"#NUM!"}},{"$error":"#NUM!"},{"$error":"#NUM!"},{"$f":"GEOMEAN(W11:W14,W19:W22)","v":{"$error":"#NUM!"}},{"$error":"#NUM!"},null,{"$f":"AVERAGE(Z11:Z14,Z19:Z22)","v":{"$error":"#VALUE!"}},{"$f":"AVERAGE(AA11:AA14,AA19:AA22)","v":{"$error":"#VALUE!"}},{"$error":"#VALUE!"},{"$error":"#VALUE!"},{"$error":"#VALUE!"},{"$error":"#VALUE!"},null,null,{"$f":"AVERAGE(AH11:AH14,AH19:AH22)","v":{"$error":"#VALUE!"}},{"$f":"AVERAGE(AI11:AI14,AI19:AI22)","v":{"$error":"#VALUE!"}},{"$error":"#VALUE!"}]
[null,"Class Gaming",{"$nulls":6},{"$f":"GEOMEAN(I3:I54)","v":{"v":40.534714570440265,"d":"40.53"}},null,null,{"$f":"GEOMEAN(L3:L54)","v":{"v":6.79030870935728,"d":"6.79"}},{"$nulls":6},{"$f":"GEOMEAN(S3:S54)","v":{"$error":"#NUM!"}},null,null,{"$f":"GEOMEAN(V3:V54)","v":{"$error":"#NUM!"}},{"$f":"GEOMEAN(W3:W54)","v":{"$error":"#NUM!"}},{"$f":"GEOMEAN(X3:X54)","v":{"$error":"#NUM!"}},null,{"$f":"AVERAGE(Z3:Z54)","v":{"$error":"#VALUE!"}},{"$f":"AVERAGE(AA3:AA54)","v":{"$error":"#VALUE!"}},{"$error":"#VALUE!"},{"$error":"#VALUE!"},{"$error":"#VALUE!"},{"$error":"#VALUE!"},null,null,{"$f":"AVERAGE(AH3:AH54)","v":{"$error":"#VALUE!"}},{"$f":"AVERAGE(AI3:AI54)","v":{"$error":"#VALUE!"}},{"$error":"#VALUE!"}]
[null,"All"]
[null,"Time geomean",{"$nulls":6},{"$f":"GEOMEAN(I3:I54)","v":{"v":40.534714570440265,"d":"40.53"}},null,null,{"$f":"GEOMEAN(L3:L54)","v":{"v":6.79030870935728,"d":"6.79"}},{"$nulls":6},{"$f":"GEOMEAN(S3:S54)","v":{"$error":"#NUM!"}},null,null,{"$f":"GEOMEAN(V3:V54)","v":{"$error":"#NUM!"}}]
[null,"Time ratio",{"$nulls":16},{"$f":"S59/I59","v":{"$error":"#NUM!"}},null,null,{"$f":"V59/L59","v":{"$error":"#NUM!"}}]
[null,"Time sum (hours)"]

{"sheet":"LDP-10","index":5,"n_rows":58,"n_cols":36,"rows_kept":58,"merged":[[0,3,0,11],[0,13,0,21],[0,25,0,27],[0,28,0,30],[0,33,0,35]]}
[{"$nulls":3},{"$f":"Summary!M3","v":"HM-16.22 Main10"},{"$nulls":9},{"$f":"Summary!M4","v":"test"},{"$nulls":11},"BD-rate (piecewise cubic)",null,null,"BD-rate (cubic)",null,null,"Reference","Tested","BD-rate"]
[null,null,"QPISlice","kbps","Y psnr","U psnr","V psnr","Enc T [s]","Dec T [s]","VMAF","MS SSIM","Enc T [h]",null,"kbps","Y psnr","U psnr","V psnr","Enc T [s]","Dec T [s]","VMAF","MS SSIM","Enc T [h]","Enc","Dec",null,"Y","U","V","Y","U","V","Average PSNR","Average PSNR","YUV PSNR","VMAF","MS-SSIM"]
["Class Gaming","AOV5_1920x1080_60Hz_8bit_420",22,{"$nulls":8},{"$f":"H3/3600","v":{"v":0,"d":"0.00"}},{"$nulls":9},{"$f":"R3/3600","v":{"v":0,"d":"0.00"}},{"$f":"R3/H3","v":{"$error":"#DIV/0!"}},{"$f":"S3/I3","v":{"$error":"#DIV/0!"}},null,{"$f":"bdrate($D3:$D6,E3:E6,$N3:$N6,O3:O6)","v":{"$error":"#VALUE!"}},{"$f":"bdrate($D3:$D6,F3:F6,$N3:$N6,P3:P6)","v":{"$error":"#VALUE!"}},{"$f":"bdrate($D3:$D6,G3:G6,$N3:$N6,Q3:Q6)","v":{"$error":"#VALUE!"}},{"$f":"bdrateOld($D3:$D6,E3:E6,$N3:$N6,O3:O6)","v":{"$error":"#VALUE!"}},{"$f":"bdrateOld($D3:$D6,F3:F6,$N3:$N6,P3:P6)","v":{"$error":"#VALUE!"}},{"$f":"bdrateOld($D3:$D6,G3:G6,$N3:$N6,Q3:Q6)","v":{"$error":"#VALUE!"}},{"$f":"(6*E3+F3+G3)/8","v":{"v":0,"d":"0.00"}},{"$f":"(6*O3+P3+Q3)/8","v":{"v":0,"d":"0.00"}},{"$f":"bdrate($D3:$D6,AF3:AF6,$N3:$N6,AG3:AG6)","v":{"$error":"#VALUE!"}},{"$f":"bdrate($D3:$D6,J3:J6,$N3:$N6,T3:T6)","v":{"$error":"#VALUE!"}},{"$error":"#VALUE!"}]
["HD Tencent",null,27,{"$nulls":8},{"v":0,"d":"0.00"},{"$nulls":9},{"v":0,"d":"0.00"},{"$error":"#DIV/0!"},{"$error":"#DIV/0!"},{"$nulls":7},{"v":0,"d":"0.00"},{"v":0,"d":"0.00"}]
[null,null,32,{"$nulls":8},{"v":0,"d":"0.00"},{"$nulls":9},{"v":0,"d":"0.00"},{"$error":"#DIV/0!"},{"$error":"#DIV/0!"},{"$nulls":7},{"v":0,"d":"0.00"},{"v":0,"d":"0.00"}]
[null,null,37,{"$nulls":8},{"v":0,"d":"0.00"},{"$nulls":9},{"v":0,"d":"0.00"},{"$error":"#DIV/0!"},{"$error":"#DIV/0!"},{"$nulls":7},{"v":0,"d":"0.00"},{"v":0,"d":"0.00"}]
[null,"baolei_1920x1080_60Hz_8bit_420_01",22,{"$nulls":8},{"v":0,"d":"0.00"},{"$nulls":9},{"v":0,"d":"0.00"},{"$error":"#DIV/0!"},{"$error":"#DIV/0!"},null,{"$f":"bdrate($D7:$D10,E7:E10,$N7:$N10,O7:O10)","v":{"$error":"#VALUE!"}},{"$f":"bdrate($D7:$D10,F7:F10,$N7:$N10,P7:P10)","v":{"$error":"#VALUE!"}},{"$f":"bdrate($D7:$D10,G7:G10,$N7:$N10,Q7:Q10)","v":{"$error":"#VALUE!"}},{"$f":"bdrateOld($D7:$D10,E7:E10,$N7:$N10,O7:O10)","v":{"$error":"#VALUE!"}},{"$f":"bdrateOld($D7:$D10,F7:F10,$N7:$N10,P7:P10)","v":{"$error":"#VALUE!"}},{"$f":"bdrateOld($D7:$D10,G7:G10,$N7:$N10,Q7:Q10)","v":{"$error":"#VALUE!"}},{"$f":"(6*E7+F7+G7)/8","v":{"v":0,"d":"0.00"}},{"$f":"(6*O7+P7+Q7)/8","v":{"v":0,"d":"0.00"}},{"$f":"bdrate($D7:$D10,AF7:AF10,$N7:$N10,AG7:AG10)","v":{"$error":"#VALUE!"}},{"$f":"bdrate($D7:$D10,J7:J10,$N7:$N10,T7:T10)","v":{"$error":"#VALUE!"}},{"$error":"#VALUE!"}]
[null,null,27,{"$nulls":8},{"v":0,"d":"0.00"},{"$nulls":9},{"v":0,"d":"0.00"},{"$error":"#DIV/0!"},{"$error":"#DIV/0!"},{"$nulls":7},{"v":0,"d":"0.00"},{"v":0,"d":"0.00"}]
[null,null,32,{"$nulls":8},{"v":0,"d":"0.00"},{"$nulls":9},{"v":0,"d":"0.00"},{"$error":"#DIV/0!"},{"$error":"#DIV/0!"},{"$nulls":7},{"v":0,"d":"0.00"},{"v":0,"d":"0.00"}]
[null,null,37,{"$nulls":8},{"v":0,"d":"0.00"},{"$nulls":9},{"v":0,"d":"0.00"},{"$error":"#DIV/0!"},{"$error":"#DIV/0!"},{"$nulls":7},{"v":0,"d":"0.00"},{"v":0,"d":"0.00"}]
[null,"baolei_4096x2160_60Hz_8bit_420_01",22,{"$nulls":8},{"$f":"H11/3600","v":{"v":0,"d":"0.00"}},{"$nulls":9},{"$f":"R11/3600","v":{"v":0,"d":"0.00"}},{"$error":"#DIV/0!"},{"$error":"#DIV/0!"},null,{"$f":"bdrate($D11:$D14,E11:E14,$N11:$N14,O11:O14)","v":{"$error":"#VALUE!"}},{"$f":"bdrate($D11:$D14,F11:F14,$N11:$N14,P11:P14)","v":{"$error":"#VALUE!"}},{"$f":"bdrate($D11:$D14,G11:G14,$N11:$N14,Q11:Q14)","v":{"$error":"#VALUE!"}},{"$f":"bdrateOld($D11:$D14,E11:E14,$N11:$N14,O11:O14)","v":{"$error":"#VALUE!"}},{"$f":"bdrateOld($D11:$D14,F11:F14,$N11:$N14,P11:P14)","v":{"$error":"#VALUE!"}},{"$f":"bdrateOld($D11:$D14,G11:G14,$N11:$N14,Q11:Q14)","v":{"$error":"#VALUE!"}},{"v":0,"d":"0.00"},{"v":0,"d":"0.00"},{"$f":"bdrate($D11:$D14,AF11:AF14,$N11:$N14,AG11:AG14)","v":{"$error":"#VALUE!"}},{"$f":"bdrate($D11:$D14,J11:J14,$N11:$N14,T11:T14)","v":{"$error":"#VALUE!"}},{"$error":"#VALUE!"}]
[null,null,27,{"$nulls":8},{"$f":"H12/3600","v":{"v":0,"d":"0.00"}},{"$nulls":9},{"$f":"R12/3600","v":{"v":0,"d":"0.00"}},{"$error":"#DIV/0!"},{"$error":"#DIV/0!"},{"$nulls":7},{"v":0,"d":"0.00"},{"v":0,"d":"0.00"}]
[null,null,32,{"$nulls":8},{"$f":"H13/3600","v":{"v":0,"d":"0.00"}},{"$nulls":9},{"$f":"R13/3600","v":{"v":0,"d":"0.00"}},{"$error":"#DIV/0!"},{"$error":"#DIV/0!"},{"$nulls":7},{"v":0,"d":"0.00"},{"v":0,"d":"0.00"}]
[null,null,37,{"$nulls":8},{"$f":"H14/3600","v":{"v":0,"d":"0.00"}},{"$nulls":9},{"$f":"R14/3600","v":{"v":0,"d":"0.00"}},{"$error":"#DIV/0!"},{"$error":"#DIV/0!"},{"$nulls":7},{"v":0,"d":"0.00"},{"v":0,"d":"0.00"}]
[null,"baolei_1920x1080_60Hz_8bit_420_02",22,{"$nulls":8},{"v":0,"d":"0.00"},{"$nulls":9},{"v":0,"d":"0.00"},{"$error":"#DIV/0!"},{"$error":"#DIV/0!"},null,{"$f":"bdrate($D15:$D18,E15:E18,$N15:$N18,O15:O18)","v":{"$error":"#VALUE!"}},{"$f":"bdrate($D15:$D18,F15:F18,$N15:$N18,P15:P18)","v":{"$error":"#VALUE!"}},{"$f":"bdrate($D15:$D18,G15:G18,$N15:$N18,Q15:Q18)","v":{"$error":"#VALUE!"}},{"$f":"bdrateOld($D15:$D18,E15:E18,$N15:$N18,O15:O18)","v":{"$error":"#VALUE!"}},{"$f":"bdrateOld($D15:$D18,F15:F18,$N15:$N18,P15:P18)","v":{"$error":"#VALUE!"}},{"$f":"bdrateOld($D15:$D18,G15:G18,$N15:$N18,Q15:Q18)","v":{"$error":"#VALUE!"}},{"v":0,"d":"0.00"},{"v":0,"d":"0.00"},{"$f":"bdrate($D15:$D18,AF15:AF18,$N15:$N18,AG15:AG18)","v":{"$error":"#VALUE!"}},{"$f":"bdrate($D15:$D18,J15:J18,$N15:$N18,T15:T18)","v":{"$error":"#VALUE!"}},{"$error":"#VALUE!"}]
[null,null,27,{"$nulls":8},{"v":0,"d":"0.00"},{"$nulls":9},{"v":0,"d":"0.00"},{"$error":"#DIV/0!"},{"$error":"#DIV/0!"},{"$nulls":7},{"v":0,"d":"0.00"},{"v":0,"d":"0.00"}]
[null,null,32,{"$nulls":8},{"v":0,"d":"0.00"},{"$nulls":9},{"v":0,"d":"0.00"},{"$error":"#DIV/0!"},{"$error":"#DIV/0!"},{"$nulls":7},{"v":0,"d":"0.00"},{"v":0,"d":"0.00"}]
[null,null,37,{"$nulls":8},{"v":0,"d":"0.00"},{"$nulls":9},{"v":0,"d":"0.00"},{"$error":"#DIV/0!"},{"$error":"#DIV/0!"},{"$nulls":7},{"v":0,"d":"0.00"},{"v":0,"d":"0.00"}]
[null,"baolei_4096x2160_60Hz_8bit_420_02",22,{"$nulls":8},{"$f":"H19/3600","v":{"v":0,"d":"0.00"}},{"$nulls":9},{"$f":"R19/3600","v":{"v":0,"d":"0.00"}},{"$error":"#DIV/0!"},{"$error":"#DIV/0!"},null,{"$f":"bdrate($D19:$D22,E19:E22,$N19:$N22,O19:O22)","v":{"$error":"#VALUE!"}},{"$f":"bdrate($D19:$D22,F19:F22,$N19:$N22,P19:P22)","v":{"$error":"#VALUE!"}},{"$f":"bdrate($D19:$D22,G19:G22,$N19:$N22,Q19:Q22)","v":{"$error":"#VALUE!"}},{"$f":"bdrateOld($D19:$D22,E19:E22,$N19:$N22,O19:O22)","v":{"$error":"#VALUE!"}},{"$f":"bdrateOld($D19:$D22,F19:F22,$N19:$N22,P19:P22)","v":{"$error":"#VALUE!"}},{"$f":"bdrateOld($D19:$D22,G19:G22,$N19:$N22,Q19:Q22)","v":{"$error":"#VALUE!"}},{"v":0,"d":"0.00"},{"v":0,"d":"0.00"},{"$f":"bdrate($D19:$D22,AF19:AF22,$N19:$N22,AG19:AG22)","v":{"$error":"#VALUE!"}},{"$f":"bdrate($D19:$D22,J19:J22,$N19:$N22,T19:T22)","v":{"$error":"#VALUE!"}},{"$error":"#VALUE!"}]
[null,null,27,{"$nulls":8},{"$f":"H20/3600","v":{"v":0,"d":"0.00"}},{"$nulls":9},{"$f":"R20/3600","v":{"v":0,"d":"0.00"}},{"$error":"#DIV/0!"},{"$error":"#DIV/0!"},{"$nulls":7},{"v":0,"d":"0.00"},{"v":0,"d":"0.00"}]
[null,null,32,{"$nulls":8},{"$f":"H21/3600","v":{"v":0,"d":"0.00"}},{"$nulls":9},{"$f":"R21/3600","v":{"v":0,"d":"0.00"}},{"$error":"#DIV/0!"},{"$error":"#DIV/0!"},{"$nulls":7},{"v":0,"d":"0.00"},{"v":0,"d":"0.00"}]
[null,null,37,{"$nulls":8},{"$f":"H22/3600","v":{"v":0,"d":"0.00"}},{"$nulls":9},{"$f":"R22/3600","v":{"v":0,"d":"0.00"}},{"$error":"#DIV/0!"},{"$error":"#DIV/0!"},{"$nulls":7},{"v":0,"d":"0.00"},{"v":0,"d":"0.00"}]
[null,"jianling_1920x1080_60Hz_8bit_420_02",22,{"$nulls":8},{"v":0,"d":"0.00"},{"$nulls":9},{"v":0,"d":"0.00"},{"$error":"#DIV/0!"},{"$error":"#DIV/0!"},null,{"$f":"bdrate($D23:$D26,E23:E26,$N23:$N26,O23:O26)","v":{"$error":"#VALUE!"}},{"$f":"bdrate($D23:$D26,F23:F26,$N23:$N26,P23:P26)","v":{"$error":"#VALUE!"}},{"$f":"bdrate($D23:$D26,G23:G26,$N23:$N26,Q23:Q26)","v":{"$error":"#VALUE!"}},{"$f":"bdrateOld($D23:$D26,E23:E26,$N23:$N26,O23:O26)","v":{"$error":"#VALUE!"}},{"$f":"bdrateOld($D23:$D26,F23:F26,$N23:$N26,P23:P26)","v":{"$error":"#VALUE!"}},{"$f":"bdrateOld($D23:$D26,G23:G26,$N23:$N26,Q23:Q26)","v":{"$error":"#VALUE!"}},{"v":0,"d":"0.00"},{"v":0,"d":"0.00"},{"$f":"bdrate($D23:$D26,AF23:AF26,$N23:$N26,AG23:AG26)","v":{"$error":"#VALUE!"}},{"$f":"bdrate($D23:$D26,J23:J26,$N23:$N26,T23:T26)","v":{"$error":"#VALUE!"}},{"$f":"bdrate($D23:$D26,K23:K26,$N23:$N26,U23:U26)","v":{"$error":"#VALUE!"}}]
[null,null,27,{"$nulls":8},{"v":0,"d":"0.00"},{"$nulls":9},{"v":0,"d":"0.00"},{"$error":"#DIV/0!"},{"$error":"#DIV/0!"},{"$nulls":7},{"v":0,"d":"0.00"},{"v":0,"d":"0.00"}]
[null,null,32,{"$nulls":8},{"v":0,"d":"0.00"},{"$nulls":9},{"v":0,"d":"0.00"},{"$error":"#DIV/0!"},{"$error":"#DIV/0!"},{"$nulls":7},{"v":0,"d":"0.00"},{"v":0,"d":"0.00"}]
[null,null,37,{"$nulls":8},{"v":0,"d":"0.00"},{"$nulls":9},{"v":0,"d":"0.00"},{"$error":"#DIV/0!"},{"$error":"#DIV/0!"},{"$nulls":7},{"v":0,"d":"0.00"},{"v":0,"d":"0.00"}]
[null,"jianling_1920x1080_60Hz_8bit_420_04",22,{"$nulls":8},{"v":0,"d":"0.00"},{"$nulls":9},{"v":0,"d":"0.00"},{"$error":"#DIV/0!"},{"$error":"#DIV/0!"},null,{"$f":"bdrate($D27:$D30,E27:E30,$N27:$N30,O27:O30)","v":{"$error":"#VALUE!"}},{"$f":"bdrate($D27:$D30,F27:F30,$N27:$N30,P27:P30)","v":{"$error":"#VALUE!"}},{"$f":"bdrate($D27:$D30,G27:G30,$N27:$N30,Q27:Q30)","v":{"$error":"#VALUE!"}},{"$f":"bdrateOld($D27:$D30,E27:E30,$N27:$N30,O27:O30)","v":{"$error":"#VALUE!"}},{"$f":"bdrateOld($D27:$D30,F27:F30,$N27:$N30,P27:P30)","v":{"$error":"#VALUE!"}},{"$f":"bdrateOld($D27:$D30,G27:G30,$N27:$N30,Q27:Q30)","v":{"$error":"#VALUE!"}},{"v":0,"d":"0.00"},{"v":0,"d":"0.00"},{"$f":"bdrate($D27:$D30,AF27:AF30,$N27:$N30,AG27:AG30)","v":{"$error":"#VALUE!"}},{"$f":"bdrate($D27:$D30,J27:J30,$N27:$N30,T27:T30)","v":{"$error":"#VALUE!"}},{"$error":"#VALUE!"}]
[null,null,27,{"$nulls":8},{"v":0,"d":"0.00"},{"$nulls":9},{"v":0,"d":"0.00"},{"$error":"#DIV/0!"},{"$error":"#DIV/0!"},{"$nulls":7},{"v":0,"d":"0.00"},{"v":0,"d":"0.00"}]
[null,null,32,{"$nulls":8},{"v":0,"d":"0.00"},{"$nulls":9},{"v":0,"d":"0.00"},{"$error":"#DIV/0!"},{"$error":"#DIV/0!"},{"$nulls":7},{"v":0,"d":"0.00"},{"v":0,"d":"0.00"}]
[null,null,37,{"$nulls":8},{"v":0,"d":"0.00"},{"$nulls":9},{"v":0,"d":"0.00"},{"$error":"#DIV/0!"},{"$error":"#DIV/0!"},{"$nulls":7},{"v":0,"d":"0.00"},{"v":0,"d":"0.00"}]
["Class Gaming","HeroesOfTheStorm_1920x1080_30Hz_8bit_P420_Part1",22,{"$nulls":8},{"v":0,"d":"0.00"},{"$nulls":9},{"v":0,"d":"0.00"},{"$error":"#DIV/0!"},{"$error":"#DIV/0!"},null,{"$f":"bdrate($D31:$D34,E31:E34,$N31:$N34,O31:O34)","v":{"$error":"#VALUE!"}},{"$f":"bdrate($D31:$D34,F31:F34,$N31:$N34,P31:P34)","v":{"$error":"#VALUE!"}},{"$f":"bdrate($D31:$D34,G31:G34,$N31:$N34,Q31:Q34)","v":{"$error":"#VALUE!"}},{"$f":"bdrateOld($D31:$D34,E31:E34,$N31:$N34,O31:O34)","v":{"$error":"#VALUE!"}},{"$f":"bdrateOld($D31:$D34,F31:F34,$N31:$N34,P31:P34)","v":{"$error":"#VALUE!"}},{"$f":"bdrateOld($D31:$D34,G31:G34,$N31:$N34,Q31:Q34)","v":{"$error":"#VALUE!"}},{"v":0,"d":"0.00"},{"v":0,"d":"0.00"},{"$f":"bdrate($D31:$D34,AF31:AF34,$N31:$N34,AG31:AG34)","v":{"$error":"#VALUE!"}},{"$f":"bdrate($D31:$D34,J31:J34,$N31:$N34,T31:T34)","v":{"$error":"#VALUE!"}},{"$error":"#VALUE!"}]
["HD",null,27,{"$nulls":8},{"v":0,"d":"0.00"},{"$nulls":9},{"v":0,"d":"0.00"},{"$error":"#DIV/0!"},{"$error":"#DIV/0!"},{"$nulls":7},{"v":0,"d":"0.00"},{"v":0,"d":"0.00"}]
["Kingston",null,32,{"$nulls":8},{"v":0,"d":"0.00"},{"$nulls":9},{"v":0,"d":"0.00"},{"$error":"#DIV/0!"},{"$error":"#DIV/0!"},{"$nulls":7},{"v":0,"d":"0.00"},{"v":0,"d":"0.00"}]
["University",null,37,{"$nulls":8},{"v":0,"d":"0.00"},{"$nulls":9},{"v":0,"d":"0.00"},{"$error":"#DIV/0!"},{"$error":"#DIV/0!"},{"$nulls":7},{"v":0,"d":"0.00"},{"v":0,"d":"0.00"}]
[null,"ProjectCars_1920x1080_30Hz_8bit_P420_Part1",22,{"$nulls":8},{"v":0,"d":"0.00"},{"$nulls":9},{"v":0,"d":"0.00"},{"$f":"R35/H35","v":{"$error":"#DIV/0!"}},{"$f":"S35/I35","v":{"$error":"#DIV/0!"}},null,{"$f":"bdrate($D35:$D38,E35:E38,$N35:$N38,O35:O38)","v":{"$error":"#VALUE!"}},{"$f":"bdrate($D35:$D38,F35:F38,$N35:$N38,P35:P38)","v":{"$error":"#VALUE!"}},{"$f":"bdrate($D35:$D38,G35:G38,$N35:$N38,Q35:Q38)","v":{"$error":"#VALUE!"}},{"$f":"bdrateOld($D35:$D38,E35:E38,$N35:$N38,O35:O38)","v":{"$error":"#VALUE!"}},{"$f":"bdrateOld($D35:$D38,F35:F38,$N35:$N38,P35:P38)","v":{"$error":"#VALUE!"}},{"$f":"bdrateOld($D35:$D38,G35:G38,$N35:$N38,Q35:Q38)","v":{"$error":"#VALUE!"}},{"v":0,"d":"0.00"},{"v":0,"d":"0.00"},{"$f":"bdrate($D35:$D38,AF35:AF38,$N35:$N38,AG35:AG38)","v":{"$error":"#VALUE!"}},{"$f":"bdrate($D35:$D38,J35:J38,$N35:$N38,T35:T38)","v":{"$error":"#VALUE!"}},{"$error":"#VALUE!"}]
[null,null,27,{"$nulls":8},{"v":0,"d":"0.00"},{"$nulls":9},{"v":0,"d":"0.00"},{"$error":"#DIV/0!"},{"$error":"#DIV/0!"},{"$nulls":7},{"v":0,"d":"0.00"},{"v":0,"d":"0.00"}]
[null,null,32,{"$nulls":8},{"v":0,"d":"0.00"},{"$nulls":9},{"v":0,"d":"0.00"},{"$error":"#DIV/0!"},{"$error":"#DIV/0!"},{"$nulls":7},{"v":0,"d":"0.00"},{"v":0,"d":"0.00"}]
[null,null,37,{"$nulls":8},{"v":0,"d":"0.00"},{"$nulls":9},{"v":0,"d":"0.00"},{"$error":"#DIV/0!"},{"$error":"#DIV/0!"},{"$nulls":7},{"v":0,"d":"0.00"},{"v":0,"d":"0.00"}]
[null,"WoW_1920x1080_30Hz_8bit_P420_Part2",22,{"$nulls":8},{"v":0,"d":"0.00"},{"$nulls":9},{"v":0,"d":"0.00"},{"$error":"#DIV/0!"},{"$error":"#DIV/0!"},null,{"$f":"bdrate($D39:$D42,E39:E42,$N39:$N42,O39:O42)","v":{"$error":"#VALUE!"}},{"$f":"bdrate($D39:$D42,F39:F42,$N39:$N42,P39:P42)","v":{"$error":"#VALUE!"}},{"$f":"bdrate($D39:$D42,G39:G42,$N39:$N42,Q39:Q42)","v":{"$error":"#VALUE!"}},{"$f":"bdrateOld($D39:$D42,E39:E42,$N39:$N42,O39:O42)","v":{"$error":"#VALUE!"}},{"$f":"bdrateOld($D39:$D42,F39:F42,$N39:$N42,P39:P42)","v":{"$error":"#VALUE!"}},{"$f":"bdrateOld($D39:$D42,G39:G42,$N39:$N42,Q39:Q42)","v":{"$error":"#VALUE!"}},{"v":0,"d":"0.00"},{"v":0,"d":"0.00"},{"$f":"bdrate($D39:$D42,AF39:AF42,$N39:$N42,AG39:AG42)","v":{"$error":"#VALUE!"}},{"$f":"bdrate($D39:$D42,J39:J42,$N39:$N42,T39:T42)","v":{"$error":"#VALUE!"}},{"$error":"#VALUE!"}]
[null,null,27,{"$nulls":8},{"v":0,"d":"0.00"},{"$nulls":9},{"$f":"R40/3600","v":{"v":0,"d":"0.00"}},{"$error":"#DIV/0!"},{"$error":"#DIV/0!"},{"$nulls":7},{"v":0,"d":"0.00"},{"v":0,"d":"0.00"}]
[null,null,32,{"$nulls":8},{"v":0,"d":"0.00"},{"$nulls":9},{"v":0,"d":"0.00"},{"$error":"#DIV/0!"},{"$error":"#DIV/0!"},{"$nulls":7},{"v":0,"d":"0.00"},{"v":0,"d":"0.00"}]
[null,null,37,{"$nulls":8},{"v":0,"d":"0.00"},{"$nulls":9},{"v":0,"d":"0.00"},{"$error":"#DIV/0!"},{"$error":"#DIV/0!"},{"$nulls":7},{"v":0,"d":"0.00"},{"v":0,"d":"0.00"}]
["Class Gaming","MINECRAFT_1920x1080_60Hz_8bit_P420",22,{"$nulls":8},{"v":0,"d":"0.00"},{"$nulls":9},{"v":0,"d":"0.00"},{"$error":"#DIV/0!"},{"$error":"#DIV/0!"},null,{"$f":"bdrate($D43:$D46,E43:E46,$N43:$N46,O43:O46)","v":{"$error":"#VALUE!"}},{"$f":"bdrate($D43:$D46,F43:F46,$N43:$N46,P43:P46)","v":{"$error":"#VALUE!"}},{"$f":"bdrate($D43:$D46,G43:G46,$N43:$N46,Q43:Q46)","v":{"$error":"#VALUE!"}},{"$f":"bdrateOld($D43:$D46,E43:E46,$N43:$N46,O43:O46)","v":{"$error":"#VALUE!"}},{"$f":"bdrateOld($D43:$D46,F43:F46,$N43:$N46,P43:P46)","v":{"$error":"#VALUE!"}},{"$f":"bdrateOld($D43:$D46,G43:G46,$N43:$N46,Q43:Q46)","v":{"$error":"#VALUE!"}},{"v":0,"d":"0.00"},{"v":0,"d":"0.00"},{"$f":"bdrate($D43:$D46,AF43:AF46,$N43:$N46,AG43:AG46)","v":{"$error":"#VALUE!"}},{"$f":"bdrate($D43:$D46,J43:J46,$N43:$N46,T43:T46)","v":{"$error":"#VALUE!"}},{"$error":"#VALUE!"}]
["HD",null,27,{"$nulls":8},{"v":0,"d":"0.00"},{"$nulls":9},{"v":0,"d":"0.00"},{"$error":"#DIV/0!"},{"$error":"#DIV/0!"},{"$nulls":7},{"v":0,"d":"0.00"},{"v":0,"d":"0.00"}]
["DERF_TWITCH",null,32,{"$nulls":8},{"v":0,"d":"0.00"},{"$nulls":9},{"v":0,"d":"0.00"},{"$error":"#DIV/0!"},{"$error":"#DIV/0!"},{"$nulls":7},{"v":0,"d":"0.00"},{"v":0,"d":"0.00"}]
[null,null,37,{"$nulls":8},{"v":0,"d":"0.00"},{"$nulls":9},{"v":0,"d":"0.00"},{"$error":"#DIV/0!"},{"$error":"#DIV/0!"},{"$nulls":7},{"v":0,"d":"0.00"},{"v":0,"d":"0.00"}]
[null,"CSGO_1920x1080_60Hz_8bit_P420",22,{"$nulls":8},{"v":0,"d":"0.00"},{"$nulls":9},{"v":0,"d":"0.00"},{"$error":"#DIV/0!"},{"$error":"#DIV/0!"},null,{"$f":"bdrate($D47:$D50,E47:E50,$N47:$N50,O47:O50)","v":{"$error":"#VALUE!"}},{"$f":"bdrate($D47:$D50,F47:F50,$N47:$N50,P47:P50)","v":{"$error":"#VALUE!"}},{"$f":"bdrate($D47:$D50,G47:G50,$N47:$N50,Q47:Q50)","v":{"$error":"#VALUE!"}},{"$f":"bdrateOld($D47:$D50,E47:E50,$N47:$N50,O47:O50)","v":{"$error":"#VALUE!"}},{"$f":"bdrateOld($D47:$D50,F47:F50,$N47:$N50,P47:P50)","v":{"$error":"#VALUE!"}},{"$f":"bdrateOld($D47:$D50,G47:G50,$N47:$N50,Q47:Q50)","v":{"$error":"#VALUE!"}},{"v":0,"d":"0.00"},{"v":0,"d":"0.00"},{"$f":"bdrate($D47:$D50,AF47:AF50,$N47:$N50,AG47:AG50)","v":{"$error":"#VALUE!"}},{"$f":"bdrate($D47:$D50,J47:J50,$N47:$N50,T47:T50)","v":{"$error":"#VALUE!"}},{"$error":"#VALUE!"}]
[null,null,27,{"$nulls":8},{"v":0,"d":"0.00"},{"$nulls":9},{"v":0,"d":"0.00"},{"$error":"#DIV/0!"},{"$error":"#DIV/0!"},{"$nulls":7},{"v":0,"d":"0.00"},{"v":0,"d":"0.00"}]
[null,null,32,{"$nulls":8},{"v":0,"d":"0.00"},{"$nulls":9},{"v":0,"d":"0.00"},{"$error":"#DIV/0!"},{"$error":"#DIV/0!"},{"$nulls":7},{"v":0,"d":"0.00"},{"v":0,"d":"0.00"}]
[null,null,37,{"$nulls":8},{"v":0,"d":"0.00"},{"$nulls":9},{"v":0,"d":"0.00"},{"$error":"#DIV/0!"},{"$error":"#DIV/0!"},{"$nulls":7},{"v":0,"d":"0.00"},{"v":0,"d":"0.00"}]
[null,"STARCRAFT_1920x1080_60Hz_8bit_P420",22,{"$nulls":8},{"v":0,"d":"0.00"},{"$nulls":9},{"v":0,"d":"0.00"},{"$error":"#DIV/0!"},{"$error":"#DIV/0!"},null,{"$f":"bdrate($D51:$D54,E51:E54,$N51:$N54,O51:O54)","v":{"$error":"#VALUE!"}},{"$f":"bdrate($D51:$D54,F51:F54,$N51:$N54,P51:P54)","v":{"$error":"#VALUE!"}},{"$f":"bdrate($D51:$D54,G51:G54,$N51:$N54,Q51:Q54)","v":{"$error":"#VALUE!"}},{"$f":"bdrateOld($D51:$D54,E51:E54,$N51:$N54,O51:O54)","v":{"$error":"#VALUE!"}},{"$f":"bdrateOld($D51:$D54,F51:F54,$N51:$N54,P51:P54)","v":{"$error":"#VALUE!"}},{"$f":"bdrateOld($D51:$D54,G51:G54,$N51:$N54,Q51:Q54)","v":{"$error":"#VALUE!"}},{"v":0,"d":"0.00"},{"v":0,"d":"0.00"},{"$f":"bdrate($D51:$D54,AF51:AF54,$N51:$N54,AG51:AG54)","v":{"$error":"#VALUE!"}},{"$f":"bdrate($D51:$D54,J51:J54,$N51:$N54,T51:T54)","v":{"$error":"#VALUE!"}},{"$error":"#VALUE!"}]
[null,null,27,{"$nulls":8},{"$f":"H52/3600","v":{"v":0,"d":"0.00"}},{"$nulls":9},{"v":0,"d":"0.00"},{"$error":"#DIV/0!"},{"$error":"#DIV/0!"},{"$nulls":7},{"v":0,"d":"0.00"},{"v":0,"d":"0.00"}]
[null,null,32,{"$nulls":8},{"v":0,"d":"0.00"},{"$nulls":9},{"v":0,"d":"0.00"},{"$error":"#DIV/0!"},{"$error":"#DIV/0!"},{"$nulls":7},{"v":0,"d":"0.00"},{"v":0,"d":"0.00"}]
[null,null,37,{"$nulls":8},{"v":0,"d":"0.00"},{"$nulls":9},{"v":0,"d":"0.00"},{"$error":"#DIV/0!"},{"$error":"#DIV/0!"},{"$nulls":7},{"v":0,"d":"0.00"},{"v":0,"d":"0.00"}]
[null,"Class Gaming HD",{"$nulls":6},{"$f":"GEOMEAN(I3:I10,I15,I23:I54)","v":{"$error":"#NUM!"}},{"$f":"GEOMEAN(J3:J10,J15,J23:J54)","v":{"$error":"#NUM!"}},{"$error":"#NUM!"},{"$error":"#NUM!"},{"$nulls":6},{"$f":"GEOMEAN(S3:S10,S15,S23:S54)","v":{"$error":"#NUM!"}},{"$f":"GEOMEAN(T3:T10,T15,T23:T54)","v":{"$error":"#NUM!"}},{"$error":"#NUM!"},{"$error":"#NUM!"},{"$error":"#DIV/0!"},{"$error":"#DIV/0!"},null,{"$f":"AVERAGE(Z3:Z10,Z15,Z23:Z54)","v":{"$error":"#VALUE!"}},{"$f":"AVERAGE(AA3:AA10,AA15,AA23:AA54)","v":{"$error":"#VALUE!"}},{"$error":"#VALUE!"},{"$f":"AVERAGE(AC3:AC10,AC15,AC23:AC54)","v":{"$error":"#VALUE!"}},{"$f":"AVERAGE(AD3:AD10,AD15,AD23:AD54)","v":{"$error":"#VALUE!"}},{"$error":"#VALUE!"},null,null,{"$f":"AVERAGE(AH3:AH10,AH15,AH23:AH54)","v":{"$error":"#VALUE!"}},{"$f":"AVERAGE(AI3:AI10,AI15,AI23:AI54)","v":{"$error":"#VALUE!"}},{"$error":"#VALUE!"}]
[null,"Class Gaming UHD",{"$nulls":6},{"$f":"GEOMEAN(I11:I14,I19:I22)","v":{"$error":"#NUM!"}},{"$f":"GEOMEAN(J11:J14,J19:J22)","v":{"$error":"#NUM!"}},{"$error":"#NUM!"},{"$error":"#NUM!"},{"$nulls":6},{"$f":"GEOMEAN(S11:S14,S19:S22)","v":{"$error":"#NUM!"}},{"$f":"GEOMEAN(T11:T14,T19:T22)","v":{"$error":"#NUM!"}},{"$error":"#NUM!"},{"$error":"#NUM!"},{"$error":"#DIV/0!"},{"$error":"#DIV/0!"},null,{"$f":"AVERAGE(Z11,Z19)","v":{"$error":"#VALUE!"}},{"$f":"AVERAGE(AA11,AA19)","v":{"$error":"#VALUE!"}},{"$f":"AVERAGE(AB11,AB19)","v":{"$error":"#VALUE!"}},{"$f":"AVERAGE(AC11,AC19)","v":{"$error":"#VALUE!"}},{"$f":"AVERAGE(AD11,AD19)","v":{"$error":"#VALUE!"}},{"$f":"AVERAGE(AE11,AE19)","v":{"$error":"#VALUE!"}},null,null,{"$f":"AVERAGE(AH11,AH19)","v":{"$error":"#VALUE!"}},{"$f":"AVERAGE(AI11,AI19)","v":{"$error":"#VALUE!"}},{"$f":"AVERAGE(AJ11,AJ19)","v":{"$error":"#VALUE!"}}]
[null,"Class Gaming",{"$nulls":6},{"$f":"GEOMEAN(I3:I54)","v":{"$error":"#NUM!"}},null,null,{"$f":"GEOMEAN(L3:L54)","v":{"$error":"#NUM!"}},{"$nulls":6},{"$f":"GEOMEAN(S3:S54)","v":{"$error":"#NUM!"}},null,null,{"$f":"GEOMEAN(V3:V54)","v":{"$error":"#NUM!"}},{"$f":"GEOMEAN(W3:W54)","v":{"$error":"#DIV/0!"}},{"$f":"GEOMEAN(X3:X54)","v":{"$error":"#DIV/0!"}},null,{"$f":"AVERAGE(Z3:Z54)","v":{"$error":"#VALUE!"}},{"$error":"#VALUE!"},{"$error":"#VALUE!"},{"$error":"#VALUE!"},{"$error":"#VALUE!"},{"$error":"#VALUE!"},null,null,{"$f":"AVERAGE(AH3:AH54)","v":{"$error":"#VALUE!"}},{"$f":"AVERAGE(AI3:AI54)","v":{"$error":"#VALUE!"}},{"$f":"AVERAGE(AJ3:AJ54)","v":{"$error":"#VALUE!"}}]
[null,"All"]